BEGIN:VCALENDAR
VERSION:2.0
PRODID:-//ChamberMaster//Event Calendar 2.0//EN
METHOD:PUBLISH
X-PUBLISHED-TTL:P3D
REFRESH-INTERVAL:P3D
CALSCALE:GREGORIAN
BEGIN:VEVENT
DTSTART:20181020T190000Z
DTEND:20181020T220000Z
X-MICROSOFT-CDO-ALLDAYEVENT:FALSE
SUMMARY:Harvest Festival Grape Stomp & Tacos @ Cass Winery
DESCRIPTION:On Saturday of Harvest Festival enjoy an all-you-can-eat taco buffet and grape stomp! We'll turn on the tunes\, you take off your shoes! Cost includes your first glass of wine. Additional wine available for purchase.\n\n\nMenu\n\nWarm Corn Tortillas\n\nSlow Cooked Carnitas\n\nBraised Shredded Pork\, Seasoned with Cumin & Coriander\n\nSpanish Rice\n\nSeasoned Rice Cooked in Tomato Broth with Chilies & Tomatoes\n\nVegetarian Black Beans\n\nChipotles & Onions\n\nQueso Fresco\n\nFire Roasted Tomato Salsa\n\nAvocado Salsa Verde\n\n\n\nTortilla Chips
X-ALT-DESC;FMTTYPE=text/html:<p>On Saturday of Harvest Festival enjoy an all-you-can-eat taco buffet and grape stomp! We&rsquo\;ll turn on the tunes\, you take off your shoes! Cost includes your first glass of wine. Additional wine available for purchase.</p>\n\n<hr />\n<p><strong>Menu</strong></p>\n\n<p>Warm Corn Tortillas</p>\n\n<p>Slow Cooked Carnitas<br />\n<em>Braised Shredded Pork\, Seasoned with Cumin &amp\; Coriander</em></p>\n\n<p>Spanish Rice<br />\n<em>Seasoned Rice Cooked in Tomato Broth with Chilies &amp\; Tomatoes</em></p>\n\n<p>Vegetarian Black Beans<br />\n<em>Chipotles &amp\; Onions</em></p>\n\n<p>Queso Fresco</p>\n\n<p>Fire Roasted Tomato Salsa</p>\n\n<p>Avocado Salsa Verde<br />\n<br />\nTortilla Chips</p>\n
LOCATION:
UID:e.2488.4838
SEQUENCE:3
DTSTAMP:20260421T073655Z
URL:https://business.pasorobleschamber.com/events/details/cass-winery-harvest-festival-grape-stomp-10-16-2016-4838
END:VEVENT

END:VCALENDAR
