BEGIN:VCALENDAR
VERSION:2.0
PRODID:-//ChamberMaster//Event Calendar 2.0//EN
METHOD:PUBLISH
X-PUBLISHED-TTL:P3D
REFRESH-INTERVAL:P3D
CALSCALE:GREGORIAN
BEGIN:VEVENT
DTSTART:20181019T170000Z
DTEND:20181022T000000Z
X-MICROSOFT-CDO-ALLDAYEVENT:FALSE
SUMMARY:Celebrate The 2018 Harvest Festival at Calcareous Vineyard!
DESCRIPTION:Enjoy the celebration of Harvest Festival weekend with us at Calcareous Vineyard October 19th   21st. \n\n\n\nWith our award-winning wines and breathtaking views from our Tasting Room\, we offer an unprecedented wine tasting experience in the beautiful Adelaida AVA of Paso Robles. Stay for lunch\, as delicious selections will be available for purchase from 12-3pm Friday-Sunday. Wine tasting is available from 10am-5pm at $15/person or complimentary for wine club members. Reservations are recommended for groups of 8 or more.\n\n\n\nOn Saturday evening\, 10/20 join us for our Harvest Winemaker's Dinner from 6:30-9:30pm. Enjoy a gourmet 3-course sit-down dinner with passed hors d'oeuvres by Chef Will Torres\, while listening to acoustic music of Kevin Greybill. Tickets: $135 per person | $115 per Wine Club Member\, RESERVATIONS REQUIRED.\n\n\n\nSunday\, 10/21 we will be open from 10am-5pm. Listen to the musical styling of Gypsy Allstars\, while enjoying the views and award-winning wines. Lunch will also\, be available for purchase between 12-3pm.
X-ALT-DESC;FMTTYPE=text/html:<span style="font-family:times new roman"><span style="color:rgb(29\, 33\, 41)\; font-size:14px">Enjoy the celebration of Harvest Festival weekend with us at Calcareous Vineyard October 19th &ndash\; 21st.&nbsp\;</span><br />\n<br />\n<span style="color:rgb(29\, 33\, 41)\; font-size:14px">With our award-winning wines and breathtaking views from our Tasting Room\, we offer an unprecedented wine tasting experience in the beautiful Adelaida AVA of Paso Robles. Stay for lunch\, as delicious selections will be available for purchase from 12-3pm Friday-Sunday. Wine tasting is available from 10am-5pm at $15/person or complimentary for wine club members. Reservations are recommended for groups of 8 or more.</span><br />\n<br />\n<span style="color:rgb(29\, 33\, 41)\; font-size:14px">On Saturday evening\, 10/20 join us for our Harvest Winemaker&rsquo\;s Dinner from 6:30-9:30pm. Enjoy a gourmet 3-course sit-down dinner with passed hors d&rsquo\;oeuvres by Chef Will Torres\, while listening to acoustic music of Kevin Greybill. Tickets: $135 per person | $115 per Wine Club Member\, RESERVATIONS REQUIRED.</span><br />\n<br />\n<span style="color:rgb(29\, 33\, 41)\; font-size:14px">Sunday\, 10/21 we will be open from 10am-5pm. Listen to the musical styling of Gypsy Allstars\, while enjoying the views and award-winning wines. Lunch will also\, be available for purchase between 12-3pm.</span></span>
LOCATION:Calcareous Vineyard 3430 Peachy Canyon Rd Paso Robles\, CA 93446
UID:e.2488.9488
SEQUENCE:3
DTSTAMP:20260421T090256Z
URL:https://business.pasorobleschamber.com/events/details/celebrate-the-2018-harvest-festival-at-lloyd-s-lookout-9488
END:VEVENT

END:VCALENDAR
