BEGIN:VCALENDAR
VERSION:2.0
PRODID:-//ChamberMaster//Event Calendar 2.0//EN
METHOD:PUBLISH
X-PUBLISHED-TTL:P3D
REFRESH-INTERVAL:P3D
CALSCALE:GREGORIAN
BEGIN:VEVENT
DTSTART:20160828T183000Z
DTEND:20160828T203000Z
X-MICROSOFT-CDO-ALLDAYEVENT:FALSE
SUMMARY:Cellar Raid- Past and Present
DESCRIPTION:Come taste the wines that helped create a footprint in Paso Robles wine history.\n\n\n\nContinuing Adelaida Cellar Raids!  Please join our Adelaida Wine Educators for the second in our series of five "raids" slated for the remainder of 2016. We will pull some beautiful gems from our extensive library for you to enjoy while learning about Adelaida's rich history in the Paso Robles wine scene. Taste perfectly cellared wine paired with tapas prepared by Chef Alex Martin of Crush Catering. Limited seating available. \n\n$60.00 per person | $48.00 Wine Club
X-ALT-DESC;FMTTYPE=text/html:Come taste the wines that helped&nbsp\;create a footprint in Paso Robles wine history.<br />\n<br />\nContinuing Adelaida Cellar Raids!&nbsp\; Please join our Adelaida Wine Educators for the second in our series of five &ldquo\;raids&rdquo\; slated for the remainder of 2016. We will pull some beautiful gems from our extensive library for you to enjoy while learning about Adelaida&rsquo\;s rich history in the Paso Robles wine scene.&nbsp\;Taste perfectly cellared wine paired with tapas prepared by&nbsp\;Chef Alex Martin of Crush Catering.&nbsp\;Limited seating available.&nbsp\;<br />\n$60.00 per person | $48.00 Wine Club
LOCATION:Adelaida Cellars - 5805 Adelaida Road\, Paso Robles\, CA 93446
UID:e.2488.4826
SEQUENCE:3
DTSTAMP:20260421T122311Z
URL:https://business.pasorobleschamber.com/events/details/cellar-raid-past-and-present-08-28-2016-4826
END:VEVENT

END:VCALENDAR
