BEGIN:VCALENDAR
VERSION:2.0
PRODID:-//ChamberMaster//Event Calendar 2.0//EN
METHOD:PUBLISH
X-PUBLISHED-TTL:P3D
REFRESH-INTERVAL:P3D
CALSCALE:GREGORIAN
BEGIN:VEVENT
DTSTART:20170601T233000Z
DTEND:20170602T010000Z
X-MICROSOFT-CDO-ALLDAYEVENT:FALSE
SUMMARY:Central Coast Trailrides Reception and Ribbon Cutting
DESCRIPTION:Enjoy drinks and tapas at the beautiful Barn at Horsetail Ranch with Central Coast Trailrides! You are cordially invited to share in the celebration and ribbon cutting for their new membership with the Paso Robles Chamber of Commerce. A $5 off per person voucher for a 1 hour premier horseback riding experience will be offered to all guests.\n\nPlease RSVP to centralcoasttrailrides@gmail.com\,\n\nor text Crystal Hallett @ 805-610-1306.
X-ALT-DESC;FMTTYPE=text/html:<span style="font-size:14px\;"><span style="font-family:arial\;">Enjoy drinks and tapas at the beautiful Barn at Horsetail Ranch&nbsp\;with Central Coast Trailrides! You are cordially invited to share in the celebration and ribbon cutting for their new membership with the Paso Robles Chamber of Commerce. A $5 off per person voucher for a 1 hour premier horseback riding experience will be offered to all guests.<br />\nPlease RSVP to <a href="mailto:centralcoasttrailrides@gmail.com"><span style="text-decoration-line:none\;"><span style="color:windowtext\;">centralcoasttrailrides@gmail.com</span></span></a>\,<br />\nor text Crystal Hallett @ 805-610-1306.</span></span>
LOCATION:Horsetail Ranch 7265 O'Donovan Road Creston\, California
UID:e.2488.6449
SEQUENCE:3
DTSTAMP:20260423T163837Z
URL:https://business.pasorobleschamber.com/events/details/central-coast-trailrides-reception-and-ribbon-cutting-6449
END:VEVENT

END:VCALENDAR
