BEGIN:VCALENDAR
VERSION:2.0
PRODID:-//ChamberMaster//Event Calendar 2.0//EN
METHOD:PUBLISH
X-PUBLISHED-TTL:P3D
REFRESH-INTERVAL:P3D
CALSCALE:GREGORIAN
BEGIN:VEVENT
DTSTART:20240720T023000Z
DTEND:20240720T043000Z
X-MICROSOFT-CDO-ALLDAYEVENT:FALSE
SUMMARY:Chamber Concert 1: Opening Night Celebration
DESCRIPTION:The 2024 SLO Summer Music Festival opens with two pieces by celebrated masters juxtaposed with two world premieres. A lovely string quartet by Haydn opens the program\, followed by Scott Yoo's "opus 1" composition for piano quartet\, commissioned by Patricia Kohlen. Following this will be the premiere of Stewart Goodyear's octet\, commissioned by the Festival Mozaic Commissioning Consortium. Closing the concert is the sublime Piano Quintet by Finnish composer Jean Sibelius. FREE Pre-Concert Lecture at 6:30 PM with Dr. Alyson McLamore.\n\nHAYDN - String Quartet in E-flat Major\, op. 64/6\n\nSteven Copes\, Rannveig Marta Sarc\, violins\n\nCaitlin Lynch\, viola\; Dariusz Skoraczewski\, cello\n\n\n\nSCOTT YOO - Piano Quartet\, op. 1 [World Premiere]\n\nStewart Goodyear\, piano\; Scott Yoo\, violin\n\nMaurycy Banaszek\, viola\; Sophie Shao\, cello\n\n\n\nSTEWART GOODYEAR - Octet [World Premiere]\n\nEunice Kim\, Stephanie Zyzak\, Jason Uyeyama\, Jisun Yang\, violins\n\nJessica Oudin\, Jessica Chang\, violas\n\nAri Evan\, Brian Thornton\, cellos\n\n\n\nSIBELIUS - Piano Quintet in G minor\n\nJohn Novacek\, piano\n\nErik Arvinder\, Claire Bourg\, violins\n\nJesse Morrison\, viola\; Alexander Hersh\, cello\n\n\n\n\n\nScott Yoo's Piano Quartet\, op. 1 is made possible by a generous commission from Patricia Kohlen. Stewart Goodyear's Octet is made possible by the Festival Mozaic Commissioning Consortium.
X-ALT-DESC;FMTTYPE=text/html:<span style="color:rgb(0\, 0\, 0)\; font-family:rubik\,sans-serif\; font-size:16px">The 2024 SLO Summer Music Festival opens with two pieces by celebrated masters juxtaposed with two world premieres. A lovely string quartet by Haydn opens the program\, followed by Scott Yoo&rsquo\;s &ldquo\;opus 1&rdquo\; composition for piano quartet\, commissioned by Patricia Kohlen. Following this will be the premiere of Stewart Goodyear&rsquo\;s octet\, commissioned by the Festival Mozaic Commissioning Consortium. Closing the concert is the sublime Piano Quintet by Finnish composer Jean Sibelius.&nbsp\;</span><em>FREE&nbsp\;Pre-Concert Lecture at 6:30 PM with Dr. Alyson McLamore.</em><br />\n<span style="color:rgb(0\, 0\, 0)\; font-family:rubik\,sans-serif\; font-size:16px">HAYDN -&nbsp\;String Quartet in E-flat Major\, op. 64/6</span><br />\n<span style="color:rgb(0\, 0\, 0)\; font-family:rubik\,sans-serif\; font-size:16px">Steven Copes\, Rannveig Marta Sarc\, violins</span><br />\n<span style="color:rgb(0\, 0\, 0)\; font-family:rubik\,sans-serif\; font-size:16px">Caitlin Lynch\, viola\; Dariusz Skoraczewski\, cello</span><br />\n<br />\n<span style="color:rgb(0\, 0\, 0)\; font-family:rubik\,sans-serif\; font-size:16px">SCOTT YOO -&nbsp\;Piano Quartet\, op. 1 [World Premiere]</span><br />\n<span style="color:rgb(0\, 0\, 0)\; font-family:rubik\,sans-serif\; font-size:16px">Stewart Goodyear\, piano\; Scott Yoo\, violin</span><br />\n<span style="color:rgb(0\, 0\, 0)\; font-family:rubik\,sans-serif\; font-size:16px">Maurycy Banaszek\, viola\;&nbsp\;Sophie Shao\, cello</span><br />\n<br />\n<span style="color:rgb(0\, 0\, 0)\; font-family:rubik\,sans-serif\; font-size:16px">STEWART GOODYEAR -&nbsp\;Octet [World Premiere]</span><br />\n<span style="color:rgb(0\, 0\, 0)\; font-family:rubik\,sans-serif\; font-size:16px">Eunice Kim\, Stephanie Zyzak\, Jason Uyeyama\, Jisun Yang\, violins</span><br />\n<span style="color:rgb(0\, 0\, 0)\; font-family:rubik\,sans-serif\; font-size:16px">Jessica Oudin\, Jessica Chang\, violas</span><br />\n<span style="color:rgb(0\, 0\, 0)\; font-family:rubik\,sans-serif\; font-size:16px">Ari Evan\, Brian Thornton\, cellos</span><br />\n<br />\n<span style="color:rgb(0\, 0\, 0)\; font-family:rubik\,sans-serif\; font-size:16px">SIBELIUS -&nbsp\;Piano Quintet in G minor</span><br />\n<span style="color:rgb(0\, 0\, 0)\; font-family:rubik\,sans-serif\; font-size:16px">John Novacek\, piano</span><br />\n<span style="color:rgb(0\, 0\, 0)\; font-family:rubik\,sans-serif\; font-size:16px">Erik Arvinder\, Claire Bourg\, violins</span><br />\n<span style="color:rgb(0\, 0\, 0)\; font-family:rubik\,sans-serif\; font-size:16px">Jesse Morrison\, viola\;&nbsp\;Alexander Hersh\, cello</span><br />\n<br />\n<br />\n<em>Scott Yoo&#39\;s Piano Quartet\, op. 1&nbsp\;is made possible by a generous commission from Patricia Kohlen. Stewart Goodyear&#39\;s Octet&nbsp\;is made possible by the Festival Mozaic Commissioning Consortium.</em><br />\n&nbsp\;
LOCATION:Harold J. Miossi Cultural and Performing Arts Center Cuesta College Hollister Road at Highway 1 San Luis Obispo\, CA 93405
UID:e.2488.15427
SEQUENCE:3
DTSTAMP:20260422T210512Z
URL:https://business.pasorobleschamber.com/events/details/chamber-concert-1-opening-night-celebration-15427
END:VEVENT

END:VCALENDAR
