BEGIN:VCALENDAR
VERSION:2.0
PRODID:-//ChamberMaster//Event Calendar 2.0//EN
METHOD:PUBLISH
X-PUBLISHED-TTL:P3D
REFRESH-INTERVAL:P3D
CALSCALE:GREGORIAN
BEGIN:VEVENT
DTSTART:20180501T183000Z
DTEND:20180501T200000Z
X-MICROSOFT-CDO-ALLDAYEVENT:FALSE
SUMMARY:Chamber Event - Restaurant of the Month/Restaurant Appreciation
DESCRIPTION:Each month\, the Paso Robles Chamber of Commerce Ambassador Team selects a restaurant for their Restaurant Appreciation Program. On the first Tuesday of the month\, unbeknown to the chosen restaurant\, the team gathers for lunch at that location to show the Chamber's appreciation for the restaurant's continued support and involvement in our community.\n\n\n\nThe Restaurant Appreciation extends beyond bombarding the chosen restaurant with our patronage\, the Chamber spotlights the restaurant in our Visitor Center and recommends Visitors and Locals alike to give that restaurant their patronage during the month (and any other time of course!)
X-ALT-DESC;FMTTYPE=text/html:<span style="color: rgb(29\, 33\, 41)\; font-family: Helvetica\, Arial\, sans-serif\; font-size: 14px\; background-color: rgb(255\, 255\, 255)\;">Each month\, the Paso Robles Chamber of Commerce Ambassador Team selects a restaurant for their Restaurant Appreciation Program. On the first Tuesday of the month\, unbeknown to the chosen restaurant\, the team gathers for lunch at that location to show the Chamber&rsquo\;s appreciation for the restaurant&#39\;s continued support and involvement in our community.<br />\n<br />\nThe Restaurant Appreciation extends beyond bombarding the chosen restaurant with our patronage\,&nbsp\;the Chamber spotlights the restaurant in our Visitor Center and recommends Visitors and Locals alike to give that restaurant their patronage during the month (and any other time of course!)</span>
LOCATION:Location TBD Monthly January 10 2018 - Nino's Grill | 509 South Main St.\, Templeton February 6 2018 - Tortilla Town | 1145 24th St.\, Paso Robles March 6\, 2018 - Chili's | 2001 Theatre Dr.\, Paso Robles April 3\, 2018 - Cass Cafe | 7350 Linne Rd.\, Paso Robles
UID:e.2488.7117
SEQUENCE:3
DTSTAMP:20260421T170727Z
URL:https://business.pasorobleschamber.com/events/details/chamber-event-restaurant-of-the-month-restaurant-appreciation-05-01-2018-7117
END:VEVENT

END:VCALENDAR
