BEGIN:VCALENDAR
VERSION:2.0
PRODID:-//ChamberMaster//Event Calendar 2.0//EN
METHOD:PUBLISH
X-PUBLISHED-TTL:P3D
REFRESH-INTERVAL:P3D
CALSCALE:GREGORIAN
BEGIN:VEVENT
DTSTART:20180102T193000Z
DTEND:20180102T210000Z
X-MICROSOFT-CDO-ALLDAYEVENT:FALSE
SUMMARY:Chamber Event - Restaurant of the Month/Restaurant Appreciation
DESCRIPTION:Each month\, the Paso Robles Chamber of Commerce Ambassador Team selects a restaurant for their Restaurant Appreciation Program. On the first Tuesday of the month\, unbeknownst to the chosen restaurant\, the team gathers for lunch at that location to show the Chamber's appreciation for the restaurant's continued support and involvement in our community.\n\n\n\nJoin us for an informal\, no agenda lunch or dinner as we show appreciation to our member restaurants! The location rotates each month. Contact the Chamber office one week prior to the luncheon for the restaurant featured that month. \n\n \n\nThe Restaurant Appreciation extends beyond "bombarding" the chosen restaurant with our patronage\, the Chamber spotlights the restaurant in our Visitor Center and recommends Visitors and Locals alike to give that restaurant their patronage during the month (and any other time of course!)
X-ALT-DESC;FMTTYPE=text/html:<span style="font-family:arial\;"><span style="background-color: rgb(255\, 255\, 255)\;">Each month\, the Paso Robles Chamber of Commerce Ambassador Team selects a restaurant for their Restaurant Appreciation Program. On the first Tuesday of the month\, unbeknownst to the chosen restaurant\, the team gathers for lunch at that location to show the Chamber&rsquo\;s appreciation for the restaurant&#39\;s continued support and involvement in our community.</span><br />\n<br />\nJoin us for an informal\, no agenda lunch or dinner as we show appreciation to our member restaurants! The location rotates each month. Contact the Chamber office one week prior to the luncheon for the restaurant featured that month.&nbsp\;<br />\n&nbsp\;<br />\n<span style="background-color: rgb(255\, 255\, 255)\;">The Restaurant Appreciation extends beyond &quot\;bombarding&quot\; the chosen restaurant with our patronage\,&nbsp\;the Chamber spotlights the restaurant in our Visitor Center and recommends Visitors and Locals alike to give that restaurant their patronage during the month (and any other time of course!)</span></span>
LOCATION:Location TBD Monthly
UID:e.2488.7113
SEQUENCE:3
DTSTAMP:20260422T070139Z
URL:https://business.pasorobleschamber.com/events/details/chamber-event-restaurant-of-the-month-restaurant-appreciation-7113
END:VEVENT

END:VCALENDAR
