BEGIN:VCALENDAR
VERSION:2.0
PRODID:-//ChamberMaster//Event Calendar 2.0//EN
METHOD:PUBLISH
X-PUBLISHED-TTL:P3D
REFRESH-INTERVAL:P3D
CALSCALE:GREGORIAN
BEGIN:VEVENT
DTSTART:20180417T010000Z
DTEND:20180417T020000Z
X-MICROSOFT-CDO-ALLDAYEVENT:FALSE
SUMMARY:Chamber Event - "Travel With Us" - Informational Meeting
DESCRIPTION:The Paso Robles Chamber of Commerce Presents \n\n3 breath-taking adventures in 2018-2019\n\nJoin Us for an Informational Meeting so YOU can "Travel With Us!"
X-ALT-DESC;FMTTYPE=text/html:The Paso Robles Chamber of Commerce Presents&nbsp\;<br />\n3 breath-taking adventures in 2018-2019<br />\nJoin Us for an Informational Meeting so YOU can &quot\;Travel With Us!&quot\;
LOCATION:Paso Robles Inn - Matador Banquet Room
UID:e.2488.8122
SEQUENCE:3
DTSTAMP:20260422T013422Z
URL:https://business.pasorobleschamber.com/events/details/chamber-event-travel-with-us-informational-meeting-8122
END:VEVENT

END:VCALENDAR
