BEGIN:VCALENDAR
VERSION:2.0
PRODID:-//ChamberMaster//Event Calendar 2.0//EN
METHOD:PUBLISH
X-PUBLISHED-TTL:P3D
REFRESH-INTERVAL:P3D
CALSCALE:GREGORIAN
BEGIN:VEVENT
DTSTART:20180716T190000Z
DTEND:20180716T210000Z
X-MICROSOFT-CDO-ALLDAYEVENT:FALSE
SUMMARY:Chamber Event - Travel With Us Informational Meeting
DESCRIPTION:Chamber Trips Informational Meeting\n\nFind out more about these 3 breathtaking opportunities!
X-ALT-DESC;FMTTYPE=text/html:Chamber Trips Informational Meeting<br />\nFind out more about these 3 breathtaking opportunities!
LOCATION:Paso Robles Inn Board Room
UID:e.2488.9447
SEQUENCE:3
DTSTAMP:20260421T160741Z
URL:https://business.pasorobleschamber.com/events/details/chamber-event-travel-with-us-informational-meeting-9447
END:VEVENT

END:VCALENDAR
