BEGIN:VCALENDAR
VERSION:2.0
PRODID:-//ChamberMaster//Event Calendar 2.0//EN
METHOD:PUBLISH
X-PUBLISHED-TTL:P3D
REFRESH-INTERVAL:P3D
CALSCALE:GREGORIAN
BEGIN:VEVENT
DTSTART:20160114T013000Z
DTEND:20160114T043000Z
X-MICROSOFT-CDO-ALLDAYEVENT:FALSE
SUMMARY:Chamber Mixer
DESCRIPTION:Membership Mixers are a premier networking event for business professionals\, giving you the opportunity to discuss and share ideas while learning about other local businesses.\n\n \n\nEnjoy an evening of food\, wine\, and making connections.  Free for Chamber members. $20 for non-members.
X-ALT-DESC;FMTTYPE=text/html:<p style="font-stretch: normal\; font-size: 12px\; font-family: Arial\, Helvetica\, sans-serif\; margin: 0px 20px 10px 0px\; padding: 0px\; color: rgb(126\, 126\, 126)\; background-color: rgb(255\, 255\, 255)\;">Membership Mixers are a premier networking event for business professionals\, giving you the opportunity to discuss and share ideas while learning about other local businesses.</p>\n\n<p style="font-stretch: normal\; font-size: 12px\; font-family: Arial\, Helvetica\, sans-serif\; margin: 0px 20px 10px 0px\; padding: 0px\; color: rgb(126\, 126\, 126)\; background-color: rgb(255\, 255\, 255)\;">&nbsp\;</p>\n\n<p style="font-stretch: normal\; font-size: 12px\; font-family: Arial\, Helvetica\, sans-serif\; margin: 0px 20px 10px 0px\; padding: 0px\; color: rgb(126\, 126\, 126)\; background-color: rgb(255\, 255\, 255)\;">Enjoy an&nbsp\;evening of food\, wine\,&nbsp\;and making connections.&nbsp\; Free for Chamber members.&nbsp\;$20 for non-members.</p>\n
LOCATION:
UID:e.2488.4484
SEQUENCE:3
DTSTAMP:20260424T221904Z
URL:https://business.pasorobleschamber.com/events/details/chamber-mixer-01-13-2016-4484
END:VEVENT

END:VCALENDAR
