BEGIN:VCALENDAR
VERSION:2.0
PRODID:-//ChamberMaster//Event Calendar 2.0//EN
METHOD:PUBLISH
X-PUBLISHED-TTL:P3D
REFRESH-INTERVAL:P3D
CALSCALE:GREGORIAN
BEGIN:VEVENT
DTSTART:20141105T163000Z
DTEND:20141105T193000Z
X-MICROSOFT-CDO-ALLDAYEVENT:FALSE
SUMMARY:Chamber Workshop: Saving Your Business From Disaster and Survival Plan
DESCRIPTION:Saving Your Business From DisasterA workshop to provide you with the tools to protect your business in the wake of a disaster.Don't be the 1 in 4 businesses that doesn't re-open after a catastrophic event. Protect your business and your livelihood by creating a plan using a specifically designed workbook provided as part of your registration fee.There will be a question and answer period. The program will also feature brief presentations by experts in geology\, fire\, and data loss along with a special presentation from PG&E. Reservations required and space is limited.Tickets include:A survival plan "workbook" to personalize your business needs during a disasterDiscussions from key experts in seismology\, fire\, and data loss Panel discussion and Q&AContinental breakfast and coffeeChamber members - $35/Nonmembers - $50Sponsored by Premier Sponsor PG&E and American General MediaHosted by the City of Paso Robles Department of Emergency Services and the Stronger Futures Foundation of the Paso Robles Chamber of Commerce.
X-ALT-DESC;FMTTYPE=text/html:<p><strong><span style="color:#6699cc\;font-family:Tahoma\,Geneva\,sans-serif\;font-size:medium\;">Saving Your Business From Disaster</span></strong></p><p><strong><span style="font-family:Arial\,Helvetica\,sans-serif\;font-size:medium\;">A workshop to provide you with the tools to protect your business in the wake of a disaster.</span></strong></p><p><span style="font-family:Arial\,Helvetica\,sans-serif\;font-size:small\;"><strong>Don't be the 1 in 4 businesses that doesn't re-open after a catastrophic event. Protect your business and your livelihood by creating a plan&nbsp\;using a specifically designed workbook provided as part of your registration fee.</strong></span></p><p><span style="font-family:Arial\,Helvetica\,sans-serif\;font-size:small\;"><strong>There will be a question and answer period. </strong>The </span><span style="font-family:Arial\,Helvetica\,sans-serif\;font-size:small\;">program will&nbsp\;also feature&nbsp\;brief presentations by experts in geology\, fire\, and data loss along with a special presentation from PG&amp\;E. Reservations required and space is limited.</span></p><p><span style="font-family:Arial\,Helvetica\,sans-serif\;font-size:small\;">Tickets include:</span></p><ul><li><span style="font-family:Arial\,Helvetica\,sans-serif\;font-size:small\;"></span><span style="font-family:Arial\,Helvetica\,sans-serif\;font-size:small\;">A survival plan "workbook" to personalize your business needs during a disaster</span></li><li><span style="font-family:Arial\,Helvetica\,sans-serif\;font-size:small\;">Discussions from key experts in&nbsp\;seismology\, fire\, and data&nbsp\;loss&nbsp\;</span></li><li><span style="font-family:Arial\,Helvetica\,sans-serif\;font-size:small\;">Panel discussion and Q&amp\;A</span></li><li><span style="font-family:Arial\,Helvetica\,sans-serif\;font-size:small\;">Continental breakfast and coffee</span></li></ul><p><span style="font-family:Arial\,Helvetica\,sans-serif\;font-size:small\;"><strong>Chamber members - $35/</strong></span><span style="font-family:Arial\,Helvetica\,sans-serif\;font-size:small\;"><strong>Nonmembers - $50</strong></span></p><p><span style="font-family:Arial\,Helvetica\,sans-serif\;font-size:small\;"><strong>Sponsored by </strong></span><span style="font-family:Arial\,Helvetica\,sans-serif\;font-size:small\;"><strong>Premier Sponsor PG&amp\;E and </strong></span><span style="font-family:Arial\,Helvetica\,sans-serif\;font-size:small\;"><strong>American General Media</strong></span></p><p><span style="font-family:Arial\,Helvetica\,sans-serif\;font-size:small\;">Hosted by the City of Paso Robles Department of Emergency Services and the Stronger Futures Foundation of the Paso Robles Chamber of Commerce.</span></p><p><span style="font-family:Arial\,Helvetica\,sans-serif\;font-size:large\;"><strong></strong></span></p>
LOCATION:Park Ballroom 1232 Park Street\, Suite 200\, Paso Robles\, CA 93446
UID:e.2488.3993
SEQUENCE:3
DTSTAMP:20260426T041854Z
URL:https://business.pasorobleschamber.com/events/details/chamber-workshop-saving-your-business-from-disaster-and-survival-plan-11-05-2014-3993
END:VEVENT

END:VCALENDAR
