BEGIN:VCALENDAR
VERSION:2.0
PRODID:-//ChamberMaster//Event Calendar 2.0//EN
METHOD:PUBLISH
X-PUBLISHED-TTL:P3D
REFRESH-INTERVAL:P3D
CALSCALE:GREGORIAN
BEGIN:VEVENT
DTSTART:20170529T180000Z
DTEND:20170530T000000Z
X-MICROSOFT-CDO-ALLDAYEVENT:FALSE
SUMMARY:Changala Winery Open Memorial Day
DESCRIPTION:Changala's tasting room will be open Monday\, May 29th with respect to Memoria Day! Visit us to try our latest releases\, we'll be open 11am - 5pm!
X-ALT-DESC;FMTTYPE=text/html:Changala&#39\;s tasting room will be open Monday\, May 29th with respect to Memoria Day! Visit us to try our latest releases\, we&#39\;ll be open 11am - 5pm!
LOCATION:Changala Winery 3770 Willow Creek Rd Paso Robles\, CA 93446
UID:e.2488.6507
SEQUENCE:3
DTSTAMP:20260422T095737Z
URL:https://business.pasorobleschamber.com/events/details/changala-winery-open-memorial-day-6507
END:VEVENT

END:VCALENDAR
