BEGIN:VCALENDAR
VERSION:2.0
PRODID:-//ChamberMaster//Event Calendar 2.0//EN
METHOD:PUBLISH
X-PUBLISHED-TTL:P3D
REFRESH-INTERVAL:P3D
CALSCALE:GREGORIAN
BEGIN:VEVENT
DTSTART;VALUE=DATE:20160806
DTEND;VALUE=DATE:20160807
TRANSP:TRANSPARENT
X-MICROSOFT-CDO-ALLDAYEVENT:TRUE
SUMMARY:Classic Car Show at Eberle Winery
DESCRIPTION:Buckle your seatbelts for a 'cruising good time' at Eberle Winery! This Classic Car Show is the real deal. Dick Woodland (of Woodland Auto Display at the Estrella Warbirds Museum) is rolling out his cars and heading to Eberle Winery for this family-friendly event. Live music from 12pm-4pm and wood fired pizzas prepared by Gary and Marcy Eberle! Donations benefit the Estrella Warbird Museum in Paso Robles. 40% discount on all wine purchases for veterans and law enforcement personnel. Eberle Winery is dog friendly.
X-ALT-DESC;FMTTYPE=text/html:Buckle your seatbelts for a &#39\;cruising good time&#39\; at Eberle Winery! This Classic Car Show is the real deal. Dick Woodland (of Woodland Auto Display at the Estrella Warbirds Museum) is rolling out his cars and heading to Eberle Winery for this family-friendly event. Live music from 12pm-4pm and wood fired pizzas prepared by Gary and Marcy Eberle! Donations benefit the Estrella Warbird Museum in Paso Robles. 40% discount on all wine purchases for veterans and law enforcement personnel. Eberle Winery is dog friendly.
LOCATION:Eberle Winery 3810Highway 46 East Paso Robles\, CA 93446
UID:e.2488.4844
SEQUENCE:3
DTSTAMP:20260424T102547Z
URL:https://business.pasorobleschamber.com/events/details/classic-car-show-at-eberle-winery-08-06-2016-4844
END:VEVENT

END:VCALENDAR
