BEGIN:VCALENDAR
VERSION:2.0
PRODID:-//ChamberMaster//Event Calendar 2.0//EN
METHOD:PUBLISH
X-PUBLISHED-TTL:P3D
REFRESH-INTERVAL:P3D
CALSCALE:GREGORIAN
BEGIN:VEVENT
DTSTART:20170420T230000Z
DTEND:20170421T020000Z
X-MICROSOFT-CDO-ALLDAYEVENT:FALSE
SUMMARY:Client Appreciation BBQ for Meritage Asset Management Group
DESCRIPTION:Client Appreciation BBQ\n\nTri Tip\, chicken & all the fixin's!
X-ALT-DESC;FMTTYPE=text/html:<span style="color:rgb(255\, 0\, 0)"><strong><span style="font-size:14px">Client Appreciation BBQ<br />\nTri Tip\, chicken &amp\; all the fixin&#39\;s!</span></strong></span><br />\n&nbsp\;
LOCATION:104 Gateway Center Drive\, Suite A Paso Robles\, CA 93446
UID:e.2488.6428
SEQUENCE:3
DTSTAMP:20260423T212447Z
URL:https://business.pasorobleschamber.com/events/details/client-appreciation-bbq-for-meritage-asset-management-group-6428
END:VEVENT

END:VCALENDAR
