BEGIN:VCALENDAR
VERSION:2.0
PRODID:-//ChamberMaster//Event Calendar 2.0//EN
METHOD:PUBLISH
X-PUBLISHED-TTL:P3D
REFRESH-INTERVAL:P3D
CALSCALE:GREGORIAN
BEGIN:VEVENT
DTSTART:20180610T013000Z
DTEND:20180610T043000Z
X-MICROSOFT-CDO-ALLDAYEVENT:FALSE
SUMMARY:Club Member ONLY- Wine Pick-up Party
DESCRIPTION:Join us for great wine\, delicious food\, and entertianment. Open to wine club members only\, so come check out our club details or sign up online! More details to come!
X-ALT-DESC;FMTTYPE=text/html:<span style="color:rgba(0\, 0\, 0\, 0.87)\; font-family:roboto\,sans-serif\; font-size:14px">Join us for great wine\, delicious food\, and entertianment. Open to wine club members only\, so come check out our club details or sign up&nbsp\;</span><a href="http://www.villasanjuliette.com/shop-wines/join-club/" style="box-sizing: inherit\; background-color: transparent\; color: rgb(3\, 155\, 229)\; text-decoration-line: none\; -webkit-tap-highlight-color: transparent\; font-family: Roboto\, sans-serif\; font-size: 14px\;">online</a><span style="color:rgba(0\, 0\, 0\, 0.87)\; font-family:roboto\,sans-serif\; font-size:14px">!&nbsp\;More details to come!</span>&nbsp\;&nbsp\;&nbsp\;&nbsp\;&nbsp\;&nbsp\;&nbsp\;&nbsp\;&nbsp\;&nbsp\;&nbsp\;&nbsp\;&nbsp\;&nbsp\;&nbsp\;&nbsp\;&nbsp\;&nbsp\;&nbsp\;&nbsp\;
LOCATION:Villa San-Juliette Winery 6385 Cross Canyons Rd San Miguel CALIFORNIA 93451
UID:e.2488.8091
SEQUENCE:3
DTSTAMP:20260421T163416Z
URL:https://business.pasorobleschamber.com/events/details/club-member-only-wine-pick-up-party-8091
END:VEVENT

END:VCALENDAR
