BEGIN:VCALENDAR
VERSION:2.0
PRODID:-//ChamberMaster//Event Calendar 2.0//EN
METHOD:PUBLISH
X-PUBLISHED-TTL:P3D
REFRESH-INTERVAL:P3D
CALSCALE:GREGORIAN
BEGIN:VEVENT
DTSTART:20160917T160000Z
DTEND:20160917T190000Z
X-MICROSOFT-CDO-ALLDAYEVENT:FALSE
SUMMARY:Coastal Cleanup Day
DESCRIPTION:Join ECOSLO for the 32nd Annual Coastal Cleanup Day\, taking place Saturday\, September 17th from 9am-Noon. Volunteer for this international day of cleanup at any of the 30 available sites in SLO County - invite family\, friends\, and co-workers to join you! Please dress in layers\, wear sturdy shoes\, and bring a reusable water bottle and sunscreen. Create less waste by bringing your reusable supplies such as litter grabbers\, a bucket\, and gloves. ECOSLO will have some supplies available. Signup to volunteer at ecoslo.org.
X-ALT-DESC;FMTTYPE=text/html:Join ECOSLO for the 32nd Annual Coastal Cleanup Day\, taking place Saturday\, September 17th from 9am-Noon. Volunteer for this international day of cleanup at any of the 30 available sites in SLO County - invite family\, friends\, and co-workers to join you! Please dress in layers\, wear sturdy shoes\, and bring a reusable water bottle and sunscreen. Create less waste by bringing your reusable supplies such as litter grabbers\, a bucket\, and gloves. ECOSLO will have some supplies available. Signup to volunteer at ecoslo.org.
LOCATION:30 Sites in San Luis Obispo County
UID:e.2488.4854
SEQUENCE:3
DTSTAMP:20260424T074837Z
URL:https://business.pasorobleschamber.com/events/details/coastal-cleanup-day-09-17-2016-4854
END:VEVENT

END:VCALENDAR
