BEGIN:VCALENDAR
VERSION:2.0
PRODID:-//ChamberMaster//Event Calendar 2.0//EN
METHOD:PUBLISH
X-PUBLISHED-TTL:P3D
REFRESH-INTERVAL:P3D
CALSCALE:GREGORIAN
BEGIN:VEVENT
DTSTART:20160415T010000Z
DTEND:20160415T023000Z
X-MICROSOFT-CDO-ALLDAYEVENT:FALSE
SUMMARY:Community Open House
DESCRIPTION:Enjoy appetizers and refreshments as you tour the Clubhouse and learn about our programs and services offered to youth and families in our community. Meet the staff and board members who work diligently to provide high quality after-school and summer activities. This event is open to the public.
X-ALT-DESC;FMTTYPE=text/html:Enjoy appetizers and refreshments as you tour the Clubhouse and learn about our programs and services offered to youth and families in our community. Meet the staff and board members who work diligently to provide high quality after-school and summer activities. This event is open to the public.
LOCATION:600 26th Street Paso Robles Entrance on 28th Street
UID:e.2488.4668
SEQUENCE:3
DTSTAMP:20260423T072244Z
URL:https://business.pasorobleschamber.com/events/details/community-open-house-04-14-2016-4668
END:VEVENT

END:VCALENDAR
