BEGIN:VCALENDAR
VERSION:2.0
PRODID:-//ChamberMaster//Event Calendar 2.0//EN
METHOD:PUBLISH
X-PUBLISHED-TTL:P3D
REFRESH-INTERVAL:P3D
CALSCALE:GREGORIAN
BEGIN:VEVENT
DTSTART:20180621T170000Z
DTEND:20180622T010000Z
X-MICROSOFT-CDO-ALLDAYEVENT:FALSE
SUMMARY:Complimentary Pizza\, Tastings and Tours at Eberle Winery!
DESCRIPTION:If you know Eberle\, you know we love to have a good time and that's just what we're doing this first weekend of summer as we fire up the wood-fired pizza oven and offer complimentary pizza slices for a good cause. Your small donation will go directly to the Paso Robles Children's Museum--one of Gary and Marcy's favorite non-profits in Paso. Enjoy live music\, complimentary wine tasting and cave tours\, and have your pizza (or your picnic) on the vineyard deck overlooking our Estate vines. Eberle Winery is dog friendly and offers a 40% discount to military and law enforcement personnel. Tasting Room open 10am-6pm. Pizza 12pm-til it's gone.
X-ALT-DESC;FMTTYPE=text/html:If you know Eberle\, you know we love to have a good time and that&#39\;s just what we&#39\;re doing this first weekend of summer as we fire up the wood-fired pizza oven and offer complimentary pizza slices for a good cause. Your small donation will go directly to the Paso Robles Children&#39\;s Museum--one of Gary and Marcy&#39\;s favorite non-profits in Paso. Enjoy live music\, complimentary wine tasting and cave tours\, and have your pizza (or your picnic) on the vineyard deck overlooking our Estate vines. Eberle Winery is dog friendly and offers a 40% discount to military and law enforcement personnel. Tasting Room open 10am-6pm. Pizza 12pm-til it&#39\;s gone.
LOCATION:Eberle Winery 3810Highway 46 East Paso Robles\, CA 93446
UID:e.2488.9210
SEQUENCE:3
DTSTAMP:20260421T173404Z
URL:https://business.pasorobleschamber.com/events/details/complimentary-pizza-tastings-and-tours-at-eberle-winery-9210
END:VEVENT

END:VCALENDAR
