BEGIN:VCALENDAR
VERSION:2.0
PRODID:-//ChamberMaster//Event Calendar 2.0//EN
METHOD:PUBLISH
X-PUBLISHED-TTL:P3D
REFRESH-INTERVAL:P3D
CALSCALE:GREGORIAN
BEGIN:VEVENT
DTSTART:20160529T010000Z
DTEND:20160529T030000Z
X-MICROSOFT-CDO-ALLDAYEVENT:FALSE
SUMMARY:Concert at Cantinas On Park
DESCRIPTION:Hilary and Kate\, a local gospel-folk duo will harmonize on our stage at Cantinas On Park on Saturday\, May 28th at 6:00pm.  These ladies have a unique sound and will please your ears as they strum on their guitar and glide the bow over the violin.  Sometimes they bring others to perform with them\, so you may be in for a surprise guest!  No tickets necessary and admission is free\, with a suggested donation of $5.
X-ALT-DESC;FMTTYPE=text/html:Hilary and Kate\, a local gospel-folk duo will harmonize on our stage at Cantinas On Park on Saturday\, May 28th at 6:00pm. &nbsp\;These ladies have a unique sound and will please your ears as they strum on their guitar and glide the bow over the violin. &nbsp\;Sometimes they bring others to perform with them\, so you may be in for a surprise guest! &nbsp\;No tickets necessary and admission is free\, with a suggested donation of $5. &nbsp\;
LOCATION:Cantinas On Park 1242 Park St\, Downtown Paso
UID:e.2488.4748
SEQUENCE:3
DTSTAMP:20260424T155228Z
URL:https://business.pasorobleschamber.com/events/details/concert-at-cantinas-on-park-05-28-2016-4748
END:VEVENT

END:VCALENDAR
