BEGIN:VCALENDAR
VERSION:2.0
PRODID:-//ChamberMaster//Event Calendar 2.0//EN
METHOD:PUBLISH
X-PUBLISHED-TTL:P3D
REFRESH-INTERVAL:P3D
CALSCALE:GREGORIAN
BEGIN:VEVENT
DTSTART:20160903T013000Z
DTEND:20160903T043000Z
X-MICROSOFT-CDO-ALLDAYEVENT:FALSE
SUMMARY:Concert Under the Stars at Eberle Winery
DESCRIPTION:Join Eberle Winery for an evening of music\, dancing and fun as we offer a Concert Under the Stars on our vineyard deck featuring local favorite and in-demand band Ricky Montijo and the Mojitos! Turn up the volume on a great time with the sounds of soul\, rock\, Latin and funk. Food by The Hurricane Truck. Award-winning Eberle wines for sale by the glass or bottle. Please bring a light sweater. No outside alcohol allowed.
X-ALT-DESC;FMTTYPE=text/html:Join Eberle Winery for an evening of music\, dancing and fun as we offer a Concert Under the Stars on our vineyard deck featuring local favorite and in-demand band Ricky Montijo and the Mojitos! Turn up the volume on a great time with the sounds of soul\, rock\, Latin and funk. Food by The Hurricane Truck. Award-winning Eberle wines for sale by the glass or bottle. Please bring a light sweater. No outside alcohol allowed.
LOCATION:Eberle Winery 3810 Highway 46 East Paso Robles\, CA 93446
UID:e.2488.4855
SEQUENCE:3
DTSTAMP:20260424T075137Z
URL:https://business.pasorobleschamber.com/events/details/concert-under-the-stars-at-eberle-winery-09-02-2016-4855
END:VEVENT

END:VCALENDAR
