BEGIN:VCALENDAR
VERSION:2.0
PRODID:-//ChamberMaster//Event Calendar 2.0//EN
METHOD:PUBLISH
X-PUBLISHED-TTL:P3D
REFRESH-INTERVAL:P3D
CALSCALE:GREGORIAN
BEGIN:VEVENT
DTSTART:20171214T020000Z
DTEND:20171214T040000Z
X-MICROSOFT-CDO-ALLDAYEVENT:FALSE
SUMMARY:Cookie Making Class @ the Villa of San Marcos Creek
DESCRIPTION:Come join Brande for an evening of learning to bake three different types of holiday cookies. We will learn to bake Lemon and Rosemary\, Cathedral Cookies\, and Candy Cane Cookies. We are limited to 15 people\, and have a minium of 10 people. You will have cookies to take home with you\, as well as recipe card for each of the cookies we are baking that night.
X-ALT-DESC;FMTTYPE=text/html:Come join Brande for an evening of learning to bake three different types of holiday cookies. We will learn to bake Lemon and Rosemary\, Cathedral Cookies\, and Candy Cane Cookies. We are limited to 15 people\, and have a minium of 10 people. You will have cookies to take home with you\, as well as recipe card for each of the cookies we are baking that night.&nbsp\;
LOCATION:San Marcos Creek Villa
UID:e.2488.6882
SEQUENCE:3
DTSTAMP:20260422T083838Z
URL:https://business.pasorobleschamber.com/events/details/cookie-making-class-the-villa-of-san-marcos-creek-6882
END:VEVENT

END:VCALENDAR
