BEGIN:VCALENDAR
VERSION:2.0
PRODID:-//ChamberMaster//Event Calendar 2.0//EN
METHOD:PUBLISH
X-PUBLISHED-TTL:P3D
REFRESH-INTERVAL:P3D
CALSCALE:GREGORIAN
BEGIN:VEVENT
DTSTART:20181027T160000Z
DTEND:20181027T200000Z
X-MICROSOFT-CDO-ALLDAYEVENT:FALSE
SUMMARY:Cork Mobile Bottling Open House and Paso Robles Chamber Ribbon Cutting
DESCRIPTION:Come join us for an Open House of Cork Mobile Bottling\, also Paso Robles Chamber Ribbon Cutting at 10:30 AM. Several business on Plata Lane will join us for this event.
X-ALT-DESC;FMTTYPE=text/html:Come join us for an Open House of Cork Mobile Bottling\, also Paso Robles Chamber Ribbon Cutting at 10:30 AM. Several business on Plata Lane will join us for this event.&nbsp\;
LOCATION:8790 Plata Lane Atascadero
UID:e.2488.9562
SEQUENCE:3
DTSTAMP:20260421T073903Z
URL:https://business.pasorobleschamber.com/events/details/cork-mobile-bottling-open-house-and-paso-robles-chamber-ribbon-cutting-9562
END:VEVENT

END:VCALENDAR
