BEGIN:VCALENDAR
VERSION:2.0
PRODID:-//ChamberMaster//Event Calendar 2.0//EN
METHOD:PUBLISH
X-PUBLISHED-TTL:P3D
REFRESH-INTERVAL:P3D
CALSCALE:GREGORIAN
BEGIN:VEVENT
DTSTART:20250920T160000Z
DTEND:20250920T190000Z
X-MICROSOFT-CDO-ALLDAYEVENT:FALSE
SUMMARY:Creeks to Coast Cleanup Event
DESCRIPTION:Let's all work together to keep our waterways and parks clean\, and protect the beautiful natural environment of SLO County. Register to participate in one of our many SLO County locations for ECOSLO's annual Creeks to Coast Cleanup If you are interested in volunteering please register using this link: https://app.dvforms.net/api/dv/0v6yz4
X-ALT-DESC;FMTTYPE=text/html:Let&#39\;s all work together to keep our waterways and parks clean\, and protect the beautiful natural environment of SLO County. Register to participate in one of our many SLO County locations for ECOSLO&#39\;s annual Creeks to Coast Cleanup If you are interested in volunteering please register using this link: https://app.dvforms.net/api/dv/0v6yz4
LOCATION:SLO County
UID:e.2488.19841
SEQUENCE:3
DTSTAMP:20260421T051233Z
URL:https://business.pasorobleschamber.com/events/details/creeks-to-coast-cleanup-event-19841
END:VEVENT

END:VCALENDAR
