BEGIN:VCALENDAR
VERSION:2.0
PRODID:-//ChamberMaster//Event Calendar 2.0//EN
METHOD:PUBLISH
X-PUBLISHED-TTL:P3D
REFRESH-INTERVAL:P3D
CALSCALE:GREGORIAN
BEGIN:VEVENT
DTSTART:20160503T183000Z
DTEND:20160503T200000Z
X-MICROSOFT-CDO-ALLDAYEVENT:FALSE
SUMMARY:Creston Garden Apartments Renovation Kick-Off
DESCRIPTION:Join Peoples? Self-Help Housing in celebration of the renovation kick-off for Creston Garden Apartments. The groundbreaking celebration will begin with a short ceremony\, followed by property tours of this 60-unit\, affordable housing complex and a light lunch. Creston Gardens consists of 15-two story townhomes and a community building. Renovations are expected to be completed by 2017 and will include foundation repairs\, levelling to alleviate sagging\, an overhaul to the drainage system\, bringing walkways up to accessibility code and updating the housing units to comply with ADA standards. Each residential building/unit will be modernized/updated with new roofing\, appliances\, cabinetry\, flooring and fixtures. The property?s community building -- including community space\, staff offices and a youth learning center -- will also be remodeled. RSVPS are requested by April 29 by calling (805) 540-2441 or emailing admin@pshhc.org.
X-ALT-DESC;FMTTYPE=text/html:Join Peoples? Self-Help Housing in celebration of the renovation kick-off for Creston Garden Apartments. The groundbreaking celebration will begin with a short ceremony\, followed by property tours of this 60-unit\, affordable housing complex and a light lunch. Creston Gardens consists of 15-two story townhomes and a community building. Renovations are expected to be completed by 2017 and will include foundation repairs\, levelling to alleviate sagging\, an overhaul to the drainage system\, bringing walkways up to accessibility code and updating the housing units to comply with ADA standards. Each residential building/unit will be modernized/updated with new roofing\, appliances\, cabinetry\, flooring and fixtures. The property?s community building -- including community space\, staff offices and a youth learning center -- will also be remodeled. RSVPS are requested by April 29 by calling (805) 540-2441 or emailing admin@pshhc.org.
LOCATION:Creston Garden Apartments\, 1255 Creston Road\, Paso Robles\, CA
UID:e.2488.4691
SEQUENCE:3
DTSTAMP:20260424T155632Z
URL:https://business.pasorobleschamber.com/events/details/creston-garden-apartments-renovation-kick-off-05-03-2016-4691
END:VEVENT

END:VCALENDAR
