BEGIN:VCALENDAR
VERSION:2.0
PRODID:-//ChamberMaster//Event Calendar 2.0//EN
METHOD:PUBLISH
X-PUBLISHED-TTL:P3D
REFRESH-INTERVAL:P3D
CALSCALE:GREGORIAN
BEGIN:VEVENT
DTSTART:20170729T213000Z
DTEND:20170730T030000Z
X-MICROSOFT-CDO-ALLDAYEVENT:FALSE
SUMMARY:Dave Stamey Live in Concert at the Dana Adobe
DESCRIPTION:DANA will hold its largest annual fundraiser of the year: The Dave Stamey Concert! The evening will feature a performance by the nationally acclaimed cowboy entertainer\, the spirited melodies of the Daily Special Bluegrass band\, a delicious BBQ dinner prepared by the Nipomo Men's Club\, a silent auction\, a raffle\, and a no-host whiskey\, beer\, and wine bar. Concert will be on Saturday\, July 29\, gates will open at 2:30 and concert starts at 4:30. Join in on the fun\, bring a friend\, and support the DANA Cultural Center!
X-ALT-DESC;FMTTYPE=text/html:DANA will hold its largest annual fundraiser of the year: The Dave Stamey Concert! The evening will feature a performance by the nationally acclaimed cowboy entertainer\, the spirited melodies of the Daily Special Bluegrass band\, a delicious BBQ dinner prepared by the Nipomo Men&rsquo\;s Club\, a silent auction\, a raffle\, and a no-host whiskey\, beer\, and wine bar. Concert will be on Saturday\, July 29\, gates will open at 2:30 and concert starts at 4:30. Join in on the fun\, bring a friend\, and support the DANA Cultural Center!
LOCATION:671 S Oakglen Ave\, Nipomo\, CA 93444
UID:e.2488.6545
SEQUENCE:3
DTSTAMP:20260423T133111Z
URL:https://business.pasorobleschamber.com/events/details/dave-stamey-live-in-concert-at-the-dana-adobe-6545
END:VEVENT

END:VCALENDAR
