BEGIN:VCALENDAR
VERSION:2.0
PRODID:-//ChamberMaster//Event Calendar 2.0//EN
METHOD:PUBLISH
X-PUBLISHED-TTL:P3D
REFRESH-INTERVAL:P3D
CALSCALE:GREGORIAN
BEGIN:VEVENT
DTSTART:20180915T160000Z
DTEND:20180915T220000Z
X-MICROSOFT-CDO-ALLDAYEVENT:FALSE
SUMMARY:Department of State Hospitals-Atascadero 2018 Career Fair
DESCRIPTION:Second annual Department of State Hospitals-Atascadero Career Fair on 9/15/18 from 9am-3pm in the hospital main lobby.\n\nCome learn about exciting career opportunites we have to offer! All internal departments will be represented including nursing\, clinical\, administrative\, nutrition\, general services\, and plant operations.
X-ALT-DESC;FMTTYPE=text/html:<span style="font-size:14px"><span style="font-family:verdana">Second annual <span style="font-size:16px"><span style="font-size:14px"><strong>Department of State Hospitals-Atascadero Career Fair on 9/15/18</strong></span> </span>from 9am-3pm in the hospital main lobby.<br />\nCome learn about exciting career opportunites we have to offer! All internal departments will be represented including nursing\, clinical\, administrative\, nutrition\, general services\, and plant operations. </span></span>
LOCATION:DSH-Atascadero 10333 El Camino Real Atascadero\, CA 93422
UID:e.2488.9440
SEQUENCE:3
DTSTAMP:20260421T085638Z
URL:https://business.pasorobleschamber.com/events/details/department-of-state-hospitals-atascadero-2018-career-fair-9440
END:VEVENT

END:VCALENDAR
