BEGIN:VCALENDAR
VERSION:2.0
PRODID:-//ChamberMaster//Event Calendar 2.0//EN
METHOD:PUBLISH
X-PUBLISHED-TTL:P3D
REFRESH-INTERVAL:P3D
CALSCALE:GREGORIAN
BEGIN:VEVENT
DTSTART:20180819T013000Z
DTEND:20180819T043000Z
X-MICROSOFT-CDO-ALLDAYEVENT:FALSE
SUMMARY:Dine in the Vines at Eberle Winery
DESCRIPTION:It's one of the most romantic dinners we do each year...pull out the tables and the twinkle lights and dine in the vines in the Eberle Estate vineyard. This year's Dine in the Vines event features one of Paso's most sought after catering companies--Trumpet Vine Catering. Trumpet Vine has established a reputation for unique presentation\, innovative cuisine and exceptional service. Known to cater weddings and special events\, Trumpet Vine knows all about romance and our Dine in the vines event will promise plenty of wonderful memories. Enjoy a great meal\, live string music and award winning Eberle wines at this annual dinner in the vineyard.
X-ALT-DESC;FMTTYPE=text/html:It&#39\;s one of the most romantic dinners we do each year...pull out the tables and the twinkle lights and dine in the vines in the Eberle Estate vineyard. This year&#39\;s Dine in the Vines event features one of Paso&#39\;s most sought after catering companies--Trumpet Vine Catering. Trumpet Vine has established a reputation for unique presentation\, innovative cuisine and exceptional service. Known to cater weddings and special events\, Trumpet Vine knows all about romance and our Dine in the vines event will promise plenty of wonderful memories. Enjoy a great meal\, live string music and award winning Eberle wines at this annual dinner in the vineyard.
LOCATION:Eberle Winery
UID:e.2488.9211
SEQUENCE:3
DTSTAMP:20260421T140528Z
URL:https://business.pasorobleschamber.com/events/details/dine-in-the-vines-at-eberle-winery-9211
END:VEVENT

END:VCALENDAR
