BEGIN:VCALENDAR
VERSION:2.0
PRODID:-//ChamberMaster//Event Calendar 2.0//EN
METHOD:PUBLISH
X-PUBLISHED-TTL:P3D
REFRESH-INTERVAL:P3D
CALSCALE:GREGORIAN
BEGIN:VEVENT
DTSTART:20170419T020000Z
DTEND:20170419T033000Z
X-MICROSOFT-CDO-ALLDAYEVENT:FALSE
SUMMARY:Direct Sales Business Opportunity Meeting!
DESCRIPTION:Just curious... if I could show you how to earn additional income would you be interested? What if I said it wouldn't interfere with what you are currently doing would that be worth taking a look at? If so join us! Vasayo is on track to be a Legacy Company breaking earning records our first month in business! Currently in Pre-Launch\, this is a ground floor once in a lifetime opportunity. You don't want to miss this boat! Come see how you start checking things off of that Bucket List......
X-ALT-DESC;FMTTYPE=text/html:Just curious... if I could show you how to earn additional income would you be interested? What if I said it wouldn&#39\;t interfere with what you are currently doing would that be worth taking a look at? If so join us! Vasayo is on track to be a Legacy Company breaking earning records our first month in business! Currently in Pre-Launch\, this is a ground floor once in a lifetime opportunity. You don&#39\;t want to miss this boat! Come see how you start checking things off of that Bucket List......
LOCATION:11755 Cenegal Road Atascadero\, CA. 93422
UID:e.2488.6427
SEQUENCE:3
DTSTAMP:20260423T201023Z
URL:https://business.pasorobleschamber.com/events/details/direct-sales-business-opportunity-meeting-6427
END:VEVENT

END:VCALENDAR
