BEGIN:VCALENDAR
VERSION:2.0
PRODID:-//ChamberMaster//Event Calendar 2.0//EN
METHOD:PUBLISH
X-PUBLISHED-TTL:P3D
REFRESH-INTERVAL:P3D
CALSCALE:GREGORIAN
BEGIN:VEVENT
DTSTART:20180106T040000Z
DTEND:20180106T063000Z
X-MICROSOFT-CDO-ALLDAYEVENT:FALSE
SUMMARY:Dirty Cello at D'Anbino Vineyards and Cellars
DESCRIPTION:From China to Italy\, and all over the U.S.\, Dirty Cello brings the world a high energy and unique spin on blues and bluegrass. Led by vivacious cross-over cellist\, Rebecca Roudman\, Dirty Cello is cello like you've never heard before. From down home blues with a wailing cello to virtuosic stompin' bluegrass\, Dirty Cello is a band that gets your heart thumping and your toes tapping! "The group seamlessly careens from blues to bluegrass and rock in a way that really shouldn't make sense but somehow does." - LA Times
X-ALT-DESC;FMTTYPE=text/html:From China to Italy\, and all over the U.S.\, Dirty Cello brings the world a high energy and unique spin on blues and bluegrass. Led by vivacious cross-over cellist\, Rebecca Roudman\, Dirty Cello is cello like you&rsquo\;ve never heard before. From down home blues with a wailing cello to virtuosic stompin&rsquo\; bluegrass\, Dirty Cello is a band that gets your heart thumping and your toes tapping! &quot\;The group seamlessly careens from blues to bluegrass and rock in a way that really shouldn&#39\;t make sense but somehow does.&quot\; - LA Times
LOCATION:D'Anbino Vineyard and Cellars 710 Pine Street Paso Robles\, CA 93446
UID:e.2488.6885
SEQUENCE:3
DTSTAMP:20260422T083916Z
URL:https://business.pasorobleschamber.com/events/details/dirty-cello-at-d-anbino-vineyards-and-cellars-01-05-2018-6885
END:VEVENT

END:VCALENDAR
