BEGIN:VCALENDAR
VERSION:2.0
PRODID:-//ChamberMaster//Event Calendar 2.0//EN
METHOD:PUBLISH
X-PUBLISHED-TTL:P3D
REFRESH-INTERVAL:P3D
CALSCALE:GREGORIAN
BEGIN:VEVENT
DTSTART:20250704T020000Z
DTEND:20250704T040000Z
X-MICROSOFT-CDO-ALLDAYEVENT:FALSE
SUMMARY:Dirty Cello at the Pour House
DESCRIPTION:The band Dirty Cello is a globe trotting band that performs blues\, rock and Americana\, all fronted by virtuoso cellist Rebecca Roudman.
X-ALT-DESC;FMTTYPE=text/html:The band Dirty Cello is a globe trotting band that performs blues\, rock and Americana\, all fronted by virtuoso cellist Rebecca Roudman.
LOCATION:Pour House 525 Pine St\, Paso Robles\, CA 93446
UID:e.2488.19792
SEQUENCE:3
DTSTAMP:20260421T075845Z
URL:https://business.pasorobleschamber.com/events/details/dirty-cello-at-the-pour-house-19792
END:VEVENT

END:VCALENDAR
