BEGIN:VCALENDAR
VERSION:2.0
PRODID:-//ChamberMaster//Event Calendar 2.0//EN
METHOD:PUBLISH
X-PUBLISHED-TTL:P3D
REFRESH-INTERVAL:P3D
CALSCALE:GREGORIAN
BEGIN:VEVENT
DTSTART:20180427T003000Z
DTEND:20180427T020000Z
X-MICROSOFT-CDO-ALLDAYEVENT:FALSE
SUMMARY:Dogs\, Cats & Horses - Free Essential Oil Class
DESCRIPTION:There has been quit a bit of discussion and news about using essential oils on pets. This class is created to educated anyone on how to safely use essential oils with cats\, dogs\, horses\, goats and cattle.\n\n\n\nAll information that will be cover in class was provided by Dr. Janet Roark\, DVM aka the Essential Oil Vet.\n\n\n\nYou do not need to be a Kennedy Club Member to attend. This is a class open to the public.\n\n\n\nClass Cost: FREE\n\n\n\nFYI: If you have kids\, the Kidz Club at Kennedy can watch your kids while you attend the class. Call for reservation: (805) 226-4343\n\n\n\nRSVP on Facebook or Contact Below:\n\nhttps://www.facebook.com/events/715442562178307/\n\n\n\nMALEIKA LACY\n\ndoTERRA - Wellness Advocate\n\nmobile: 805.400.4945\n\nemail: maleika@gmail.com\n\nwebsite: http://mydoterra.com/mlacy/
X-ALT-DESC;FMTTYPE=text/html:<span style="color:rgb(29\, 33\, 41)\; font-family:helvetica\,arial\,sans-serif\; font-size:14px">There has been quit a bit of discussion and news about using essential oils on pets. This class is created to educated anyone on how to safely use essential oils with cats\, dogs\, horses\, goats and cattle.</span><br />\n<br />\n<span style="color:rgb(29\, 33\, 41)\; font-family:helvetica\,arial\,sans-serif\; font-size:14px">All information that will be cover in class was provided by Dr. Janet Roark\, DVM aka the Essential Oil Vet.</span><br />\n<br />\n<span style="color:rgb(29\, 33\, 41)\; font-family:helvetica\,arial\,sans-serif\; font-size:14px">You do not need to be a Kennedy Club Member to attend. This is a class open to the public.</span><br />\n<br />\n<span style="color:rgb(29\, 33\, 41)\; font-family:helvetica\,arial\,sans-serif\; font-size:14px">Class Cost: FREE</span><br />\n<br />\n<span style="color:rgb(29\, 33\, 41)\; font-family:helvetica\,arial\,sans-serif\; font-size:14px">FYI: If you have kids\, the Kidz Club at Kennedy can watch your kids while you attend the class. Call for reservation: (805) 226-4343</span><br />\n<br />\nRSVP on Facebook or Contact Below:<br />\nhttps://www.facebook.com/events/715442562178307/<br />\n<br />\nMALEIKA LACY<br />\ndoTERRA - Wellness Advocate<br />\nmobile: 805.400.4945<br />\nemail: maleika@gmail.com<br />\nwebsite: http://mydoterra.com/mlacy/&nbsp\;
LOCATION:Kennedy Club Fitness\, 500 South River Rd\, Paso Robles\, CA
UID:e.2488.9140
SEQUENCE:3
DTSTAMP:20260422T032159Z
URL:https://business.pasorobleschamber.com/events/details/dogs-cats-horses-free-essential-oil-class-9140
END:VEVENT

END:VCALENDAR
