BEGIN:VCALENDAR
VERSION:2.0
PRODID:-//ChamberMaster//Event Calendar 2.0//EN
METHOD:PUBLISH
X-PUBLISHED-TTL:P3D
REFRESH-INTERVAL:P3D
CALSCALE:GREGORIAN
BEGIN:VEVENT
DTSTART:20160728T180000Z
DTEND:20160728T190000Z
X-MICROSOFT-CDO-ALLDAYEVENT:FALSE
SUMMARY:Doing Business with PRJUSD
DESCRIPTION:Paso Robles Joint Unified School District is committed to working with our local businesses!  Please attend one of our hour-long sessions to learn more about becoming a vendor in PRJUSD and partner in education.\n\n\n\nSession 1:   11:00 AM\n\nSession 2:  12:00 PM
X-ALT-DESC;FMTTYPE=text/html:Paso Robles Joint Unified School District is committed to working with our local businesses! &nbsp\;Please attend one of our hour-long sessions to learn more about becoming a vendor in PRJUSD and partner in education.<br />\n<br />\nSession 1: &nbsp\; 11:00 AM<br />\nSession 2: &nbsp\;12:00 PM
LOCATION:Paso Robles High School Performing Arts Center 801 Niblick Road
UID:e.2488.4820
SEQUENCE:3
DTSTAMP:20260424T132914Z
URL:https://business.pasorobleschamber.com/events/details/doing-business-with-prjusd-07-28-2016-4820
END:VEVENT

END:VCALENDAR
