BEGIN:VCALENDAR
VERSION:2.0
PRODID:-//ChamberMaster//Event Calendar 2.0//EN
METHOD:PUBLISH
X-PUBLISHED-TTL:P3D
REFRESH-INTERVAL:P3D
CALSCALE:GREGORIAN
BEGIN:VEVENT
DTSTART:20230416T003000Z
DTEND:20230416T033000Z
X-MICROSOFT-CDO-ALLDAYEVENT:FALSE
SUMMARY:Dubost Country Club Winemaker Dinner
DESCRIPTION:Join us in the celebration of the upcoming Spring release wines! Music by the James Rivers Band\, wine and cheese appetizer tasting and a special menu prepared by Kate Dubost and Cameron Raines. Evening Details: Live Music by James River Band from 5:30 p.m. - 8:30 p.m. Gourmet Cheese Pairing with 4 Release Wines at 5:30 p.m. 2022 White Heart\, 2021 Nebbiolo\, 2020 Gran Reserva\, & 2020 Touriga Reserve Seated Wine Paired Dinner at 6:30 p.m. Menu to be prepared by Kate Dubost & Cameron Raines
X-ALT-DESC;FMTTYPE=text/html:Join us in the celebration of the upcoming Spring release wines! Music by the James Rivers Band\, wine and cheese appetizer tasting and a special menu prepared by Kate Dubost and Cameron Raines. Evening Details: Live Music by James River Band from 5:30 p.m. - 8:30 p.m. Gourmet Cheese Pairing with 4 Release Wines at 5:30 p.m. 2022 White Heart\, 2021 Nebbiolo\, 2020 Gran Reserva\, &amp\; 2020 Touriga Reserve Seated Wine Paired Dinner at 6:30 p.m. Menu to be prepared by Kate Dubost &amp\; Cameron Raines
LOCATION:Dubost 9988 Chimney Rock Road\, Paso Robles\, CA 93446
UID:e.2488.14054
SEQUENCE:3
DTSTAMP:20260421T223113Z
URL:https://business.pasorobleschamber.com/events/details/dubost-country-club-winemaker-dinner-14054
END:VEVENT

END:VCALENDAR
