BEGIN:VCALENDAR
VERSION:2.0
PRODID:-//ChamberMaster//Event Calendar 2.0//EN
METHOD:PUBLISH
X-PUBLISHED-TTL:P3D
REFRESH-INTERVAL:P3D
CALSCALE:GREGORIAN
BEGIN:VEVENT
DTSTART;VALUE=DATE:20250705
DTEND;VALUE=DATE:20250901
TRANSP:TRANSPARENT
X-MICROSOFT-CDO-ALLDAYEVENT:TRUE
SUMMARY:Earth Gowns: Earth\, Air\, Fire\, Water
DESCRIPTION:This collection of Earth Gowns features 25 garments by 14 textile artists. It is an exploration of our home planet   Mother Earth   through hand stitching\, recycled material\, eco dyeing\, and sticks\, seed pods and feathers.
X-ALT-DESC;FMTTYPE=text/html:This collection of Earth Gowns features 25 garments by 14 textile artists. It is an exploration of our home planet &ndash\; Mother Earth &ndash\; through hand stitching\, recycled material\, eco dyeing\, and sticks\, seed pods and feathers.
LOCATION:Studios on the Park 1130 Pine Street
UID:e.2488.19780
SEQUENCE:3
DTSTAMP:20260421T063633Z
URL:https://business.pasorobleschamber.com/events/details/earth-gowns-earth-air-fire-water-19780
END:VEVENT

END:VCALENDAR
