BEGIN:VCALENDAR
VERSION:2.0
PRODID:-//ChamberMaster//Event Calendar 2.0//EN
METHOD:PUBLISH
X-PUBLISHED-TTL:P3D
REFRESH-INTERVAL:P3D
CALSCALE:GREGORIAN
BEGIN:VEVENT
DTSTART:20180630T180000Z
DTEND:20180701T000000Z
X-MICROSOFT-CDO-ALLDAYEVENT:FALSE
SUMMARY:East Side Warriors\, Wines & Wheels Passport Event
DESCRIPTION:Kick start your 4th of July holiday season with a fun twist to our popular passport events all while benefiting our Veterans and active Military. Join the other Paso Robles Wineries East passport holders and get up close with fun and unique "wheels" on display as well as complimentary wine tasting at 17 of our participating 46 East member wineries! Use your passport as your game board to enter to win fabulous 46 East prizes.
X-ALT-DESC;FMTTYPE=text/html:<h2 style="text-align:center"><span style="background-color:rgb(246\, 245\, 243)\; color:rgb(93\, 89\, 72)\; font-family:arno-pro\,times new roman\,times\,serif\; font-size:16px">Kick start your 4th of July holiday season with a fun twist to our popular passport events all while benefiting our Veterans and active Military. Join the other Paso Robles Wineries East passport holders and get up close with fun and unique &quot\;wheels&quot\; on display as well as complimentary wine tasting at 17 of our participating 46 East member wineries! Use your passport as your game board to enter to win fabulous 46 East prizes.&nbsp\;</span></h2>\n
LOCATION:
UID:e.2488.7099
SEQUENCE:3
DTSTAMP:20260421T174913Z
URL:https://business.pasorobleschamber.com/events/details/east-side-warriors-wines-wheels-passport-event-7099
END:VEVENT

END:VCALENDAR
