BEGIN:VCALENDAR
VERSION:2.0
PRODID:-//ChamberMaster//Event Calendar 2.0//EN
METHOD:PUBLISH
X-PUBLISHED-TTL:P3D
REFRESH-INTERVAL:P3D
CALSCALE:GREGORIAN
BEGIN:VEVENT
DTSTART;VALUE=DATE:20160611
DTEND;VALUE=DATE:20160612
TRANSP:TRANSPARENT
X-MICROSOFT-CDO-ALLDAYEVENT:TRUE
SUMMARY:Eberle Winery Independence Day
DESCRIPTION:Join Gary and Marcy Eberle as they celebrate one year of gaining back their independence\, and regaining control of their own Eberle Winery. With wine specials\, complimentary wine tasting and cave tours\, Gary's famous wood-fired pizza\, and live music by the amazing Ricky Montijo & The Mojitos\, it's going to be one day-long feel good party at Eberle Winery!
X-ALT-DESC;FMTTYPE=text/html:Join&nbsp\;Gary and Marcy Eberle&nbsp\;as&nbsp\;they celebrate one year of gaining back their independence\, and regaining control of their own Eberle Winery. With wine specials\, complimentary wine tasting and cave tours\, Gary&#39\;s famous wood-fired pizza\, and live music by the amazing Ricky Montijo &amp\; The Mojitos\, it&#39\;s going to be one day-long feel good party at Eberle Winery!
LOCATION:Eberle Winery 3810 Highway 46 East Paso Robles\, CA 93446
UID:e.2488.4776
SEQUENCE:3
DTSTAMP:20260424T154732Z
URL:https://business.pasorobleschamber.com/events/details/eberle-winery-independence-day-06-11-2016-4776
END:VEVENT

END:VCALENDAR
