BEGIN:VCALENDAR
VERSION:2.0
PRODID:-//ChamberMaster//Event Calendar 2.0//EN
METHOD:PUBLISH
X-PUBLISHED-TTL:P3D
REFRESH-INTERVAL:P3D
CALSCALE:GREGORIAN
BEGIN:VEVENT
DTSTART:20160814T183000Z
DTEND:20160814T203000Z
X-MICROSOFT-CDO-ALLDAYEVENT:FALSE
SUMMARY:Educational Seminar- Obscure Selections
DESCRIPTION:Event Description\n\n\n\nJoin Certified Sommelier Glenn Mitton for an educational seminar focusing on the obscure\, unusual\, and delicious   the hipster trinity. Glenn brings an in-depth and mainstream perspective on the wines drank by the free-spirited. Wine and small bites included. Limited seating available. \n\n\n\n$60 per person/ $48 per person- Adelaida Club Members\n\n\n\nHIPSTER (noun\, slang) a person who follows the latest trends and fashions\, especially those regarded as being outside the cultural mainstream
X-ALT-DESC;FMTTYPE=text/html:Event Description<br />\n<br />\nJoin Certified Sommelier Glenn Mitton&nbsp\;for an educational seminar focusing on the&nbsp\;obscure\, unusual\, and delicious &ndash\; the hipster trinity.&nbsp\;Glenn brings an in-depth and mainstream&nbsp\;perspective on the wines drank by the free-spirited.&nbsp\;Wine and small bites included. Limited seating available.&nbsp\;<br />\n<br />\n$60 per person/ $48 per person- Adelaida Club Members<br />\n<br />\nHIPSTER&nbsp\;(noun\, slang)&nbsp\;a person who follows the latest trends and fashions\, especially those regarded as being outside the cultural mainstream&nbsp\;
LOCATION:Adelaida Cellars - 5805 Adelaida Road\, Paso Robles\, CA 93446
UID:e.2488.4825
SEQUENCE:3
DTSTAMP:20260424T102329Z
URL:https://business.pasorobleschamber.com/events/details/educational-seminar-obscure-selections-08-14-2016-4825
END:VEVENT

END:VCALENDAR
