BEGIN:VCALENDAR
VERSION:2.0
PRODID:-//ChamberMaster//Event Calendar 2.0//EN
METHOD:PUBLISH
X-PUBLISHED-TTL:P3D
REFRESH-INTERVAL:P3D
CALSCALE:GREGORIAN
BEGIN:VEVENT
DTSTART:20240605T190000Z
DTEND:20240605T210000Z
X-MICROSOFT-CDO-ALLDAYEVENT:FALSE
SUMMARY:EECU Paso Robles Branch One-Year Anniversary Celebration
DESCRIPTION:Join us as we celebrate the one-year anniversary of our Paso Robles branch. There will be fun\, free food and prizes! KJUG 98.1 will broadcast live at our branch and  rale Taqueria will be on site serving delicious tacos. Enter to win a Yeti Soft Cooler and other great prizes. We hope to see you there!   \n\n\n\nLocation:\n\nEECU Paso Robles Branch\n\n2341 Theatre Drive\n\n\n\nDate and Time:\n\nWednesday\, June 5\n\n12pm-2pm\n\n\n\nFees/Admission:\n\nFree\n\n\n\nWebsite: http://myeecu.org/home/home\n\n\n\nCarrie Danielson\n\nPaso Robles - Branch Manager\n\n805.400.6701\n\nCarrieD@myeecu.org
X-ALT-DESC;FMTTYPE=text/html:<span style="font-family:arial\;"><span style="font-size:14px\;"><span style="background-color:#FFFFFF\;">Join us as we celebrate the one-year anniversary of our Paso Robles branch. There will be fun\, free food and prizes! </span><span style="background:yellow\;"><span style="background-color:#FFFFFF\;">KJUG 98.1</span></span><span style="background-color:#FFFFFF\;"> will broadcast live at our branch and &Oacute\;rale Taqueria will be on site serving delicious tacos. Enter to win a Yeti Soft Cooler and other great prizes. We hope to see you there!</span>&nbsp\; &nbsp\;<br />\n<br />\n<strong>Location:</strong><br />\nEECU Paso Robles Branch<br />\n2341 Theatre Drive<br />\n<br />\n<strong>Date and Time:</strong><br />\nWednesday\, June 5<br />\n12pm-2pm<br />\n<br />\n<strong>Fees/Admission:</strong><br />\nFree<br />\n<br />\nWebsite: http://myeecu.org/home/home<br />\n<br />\nCarrie Danielson<br />\nPaso Robles - Branch Manager<br />\n805.400.6701<br />\nCarrieD@myeecu.org<br />\n<br />\n&nbsp\; &nbsp\; &nbsp\; &nbsp\; &nbsp\; &nbsp\; &nbsp\; &nbsp\;<br />\n&nbsp\;<br />\n&nbsp\; &nbsp\; &nbsp\; &nbsp\; &nbsp\; &nbsp\; &nbsp\; &nbsp\;</span></span>
LOCATION:EECU Paso Robles Branch 2341 Theatre Drive
UID:e.2488.15472
SEQUENCE:3
DTSTAMP:20260422T194730Z
URL:https://business.pasorobleschamber.com/events/details/eecu-paso-robles-branch-one-year-anniversary-celebration-15472
END:VEVENT

END:VCALENDAR
