BEGIN:VCALENDAR
VERSION:2.0
PRODID:-//ChamberMaster//Event Calendar 2.0//EN
METHOD:PUBLISH
X-PUBLISHED-TTL:P3D
REFRESH-INTERVAL:P3D
CALSCALE:GREGORIAN
BEGIN:VEVENT
DTSTART:20160821T010000Z
DTEND:20160821T050000Z
X-MICROSOFT-CDO-ALLDAYEVENT:FALSE
SUMMARY:End of Summer Bash! Friends\, Family\, Food & a Flick
DESCRIPTION:Join us for the Fun! Dinner\, Live Music\, Games and a movie at the end of Summer Bash to Support North County Dance and Performing Arts Foundation. Open to the public so join us and invite your neighbors and everyone you know for a BLAST. Bring your low lawn chairs and blankets. Beverages\, candy\, popcorn and snacks for sale. No outside food please.
X-ALT-DESC;FMTTYPE=text/html:Join us for the Fun! Dinner\, Live Music\, Games and a movie at the end of Summer Bash to Support North County Dance and Performing Arts Foundation. Open to the public so join us and invite your neighbors and everyone you know for a BLAST. Bring your low lawn chairs and blankets. Beverages\, candy\, popcorn and snacks for sale. No outside food please.
LOCATION:CaliPaso Winery located at 4230 Buena Vista Dr.\, Paso Robles\, CA 93446
UID:e.2488.4845
SEQUENCE:3
DTSTAMP:20260424T103840Z
URL:https://business.pasorobleschamber.com/events/details/end-of-summer-bash-friends-family-food-a-flick-08-20-2016-4845
END:VEVENT

END:VCALENDAR
