BEGIN:VCALENDAR
VERSION:2.0
PRODID:-//ChamberMaster//Event Calendar 2.0//EN
METHOD:PUBLISH
X-PUBLISHED-TTL:P3D
REFRESH-INTERVAL:P3D
CALSCALE:GREGORIAN
BEGIN:VEVENT
DTSTART;VALUE=DATE:20170408
DTEND;VALUE=DATE:20170410
TRANSP:TRANSPARENT
X-MICROSOFT-CDO-ALLDAYEVENT:TRUE
SUMMARY:Eroica California
DESCRIPTION:Join us for this unique vintage bicycling event taking place at the Paso Robles City Park. In addition to the four challenging routes\, the event features a Bicycle Concours d'Elegance\, Vintage Fair\, Swap tent\, Movie\, Seminar and special dinners for participants. A portion of the proceeds will benefit Hospice SLO County. Visit www.erociacalifornia.com to register or for more information.
X-ALT-DESC;FMTTYPE=text/html:Join us for this unique vintage bicycling event taking place at the Paso Robles City Park. In addition to the four challenging routes\, the event features a Bicycle Concours d&rsquo\;Elegance\, Vintage Fair\, Swap tent\, Movie\, Seminar and special dinners for participants. A portion of the proceeds will benefit Hospice SLO County. Visit www.erociacalifornia.com to register or for more information.
LOCATION:Paso Robles City Park
UID:e.2488.6076
SEQUENCE:3
DTSTAMP:20260423T212436Z
URL:https://business.pasorobleschamber.com/events/details/eroica-california-6076
END:VEVENT

END:VCALENDAR
