BEGIN:VCALENDAR
VERSION:2.0
PRODID:-//ChamberMaster//Event Calendar 2.0//EN
METHOD:PUBLISH
X-PUBLISHED-TTL:P3D
REFRESH-INTERVAL:P3D
CALSCALE:GREGORIAN
BEGIN:VEVENT
DTSTART;VALUE=DATE:20170806
DTEND;VALUE=DATE:20170807
TRANSP:TRANSPARENT
X-MICROSOFT-CDO-ALLDAYEVENT:TRUE
SUMMARY:Family Care Network's Benefit for Kids
DESCRIPTION:Experience exclusive Central Coast beverages\, flavors\, and fare with a live and silent auction in the Secret Garden at Madonna Inn.
X-ALT-DESC;FMTTYPE=text/html:Experience exclusive Central Coast beverages\, flavors\, and fare with a live and silent auction in the Secret Garden at Madonna Inn.
LOCATION:Madonna Inn Secret Garden
UID:e.2488.6516
SEQUENCE:3
DTSTAMP:20260423T092624Z
URL:https://business.pasorobleschamber.com/events/details/family-care-network-s-benefit-for-kids-6516
END:VEVENT

END:VCALENDAR
