BEGIN:VCALENDAR
VERSION:2.0
PRODID:-//ChamberMaster//Event Calendar 2.0//EN
METHOD:PUBLISH
X-PUBLISHED-TTL:P3D
REFRESH-INTERVAL:P3D
CALSCALE:GREGORIAN
BEGIN:VEVENT
DTSTART:20180421T153000Z
DTEND:20180421T190000Z
X-MICROSOFT-CDO-ALLDAYEVENT:FALSE
SUMMARY:Family Care Network's Miracle Miles for Kids 15th Anniversary
DESCRIPTION:Register today for Family Care Network's 15th Annual Miracle Miles for Kids race. Taking place on April 21st\, we want you to come walk or run in this family friendly 10k from Morro Rock to Cayucos Pier and help support our community's children\, youth and families impacted by trauma. Don't miss your chance to celebrate 15 years of Miracle Miles for Kids\, make a difference in our community and have fun at the best beach event on the Central Coast! Join us at MM4K.com Website: http://mm4k.com/
X-ALT-DESC;FMTTYPE=text/html:Register today for Family Care Network&#39\;s 15th Annual Miracle Miles for Kids race. Taking place on April 21st\, we want you to come walk or run in this family friendly 10k from Morro Rock to Cayucos Pier and help support our community&#39\;s children\, youth and families impacted by trauma. Don&rsquo\;t miss your chance to celebrate 15 years of Miracle Miles for Kids\, make a difference in our community and have fun at the best beach event on the Central Coast! Join us at MM4K.com Website: http://mm4k.com/
LOCATION:Morro Rock
UID:e.2488.7960
SEQUENCE:3
DTSTAMP:20260422T105631Z
URL:https://business.pasorobleschamber.com/events/details/family-care-network-s-miracle-miles-for-kids-15th-anniversary-7960
END:VEVENT

END:VCALENDAR
