BEGIN:VCALENDAR
VERSION:2.0
PRODID:-//ChamberMaster//Event Calendar 2.0//EN
METHOD:PUBLISH
X-PUBLISHED-TTL:P3D
REFRESH-INTERVAL:P3D
CALSCALE:GREGORIAN
BEGIN:VEVENT
DTSTART:20240722T180000Z
DTEND:20240722T190000Z
X-MICROSOFT-CDO-ALLDAYEVENT:FALSE
SUMMARY:Family Concert: Peter and the Wolf
DESCRIPTION:The Movement Arts Collective once again joins forces with Festival Mozaic to lead this family-friendly performance of Prokofiev's beloved Peter and the Wolf in which the narrator tells the story while the orchestra represents the characters with different instruments. This concert is open for all ages and will last under one hour without an intermission.\n\n\n\nFestival Mozaic Orchestra\n\nMovement Arts Collective\n\nRyan Lawrence\, choreographer & narrator\n\n\n\nBring the kids out to the CPAC at 10:00 AM to try playing a variety of musical instruments at the SLO Symphony's Instrument Petting Zoo.
X-ALT-DESC;FMTTYPE=text/html:<span style="color:rgb(0\, 0\, 0)\; font-family:rubik\,sans-serif\; font-size:16px">The Movement Arts Collective once again joins forces with Festival Mozaic to lead this family-friendly performance of Prokofiev&rsquo\;s beloved Peter and the Wolf in which the narrator tells the story while the orchestra represents the characters with different instruments. This concert is open for all ages and will last under one hour without an intermission.</span><br />\n<br />\n<span style="color:rgb(0\, 0\, 0)\; font-family:rubik\,sans-serif\; font-size:16px">Festival Mozaic Orchestra</span><br />\n<span style="color:rgb(0\, 0\, 0)\; font-family:rubik\,sans-serif\; font-size:16px">Movement Arts Collective</span><br />\n<span style="color:rgb(0\, 0\, 0)\; font-family:rubik\,sans-serif\; font-size:16px">Ryan Lawrence\, choreographer &amp\; narrator</span><br />\n<br />\n<span style="color:rgb(0\, 0\, 0)\; font-family:rubik\,sans-serif\; font-size:16px">Bring the kids out to the CPAC at 10:00 AM to try playing a variety of musical instruments at the SLO Symphony&rsquo\;s Instrument Petting Zoo.</span>
LOCATION:Harold J. Miossi Cultural and Performing Arts Center Cuesta College Hollister Road at Highway 1 San Luis Obispo\, CA 93405
UID:e.2488.15431
SEQUENCE:3
DTSTAMP:20260422T210531Z
URL:https://business.pasorobleschamber.com/events/details/family-concert-peter-and-the-wolf-15431
END:VEVENT

END:VCALENDAR
