BEGIN:VCALENDAR
VERSION:2.0
PRODID:-//ChamberMaster//Event Calendar 2.0//EN
METHOD:PUBLISH
X-PUBLISHED-TTL:P3D
REFRESH-INTERVAL:P3D
CALSCALE:GREGORIAN
BEGIN:VEVENT
DTSTART:20161021T170000Z
DTEND:20161021T213000Z
X-MICROSOFT-CDO-ALLDAYEVENT:FALSE
SUMMARY:Farm to Fork
DESCRIPTION:This event is designed to reconnect and educate guests on the source of their food and wine while showcasing local cuisine\, wine tastings\, food artisans\, and unique chef demonstrations.\n\n\n\nProceeds from this event help fund the Women In Business Scholarship -- a program that promotes economic vitality by encouraging individuals entering higher education to strive for academic excellence and return to our community with valuable leadership skills.\n\n \nTickets include a drink ticket\, and a commemorative glass and shopping bag\, and a delicious 4-course\, chef-prepared lunch by: Pasolivo\, PasoTerra\, Thomas Hill Organics\, and Bless Your Heart Bakery.\n Speakers include:\n\nAli Carscaden\,  Certified Sommelier and Owner of 15 Degrees C Wine Shop & Bar -- Ali will give a fun\, informative presentation on wine and how to taste it!\n\n\n\nBarbara Spencer\, Owner of Windrose Farm -- Barbara's presentation\, "Classroom in Sustainability" will focus on what sustainability means in the Paso Robles area\, why sustainability is important\, and how you can help.\n\n\n\nTiffani Seitz\, Owner of South Bay Wild -- Tiffani will give an informative presentation on small commercial fishing vessels\, sustainable seafood\, and the triple bottom line approach.\n\n\n\nEnjoy local wine and beer by Pipestone Vineyards\, Mystic Hills Vineyard\, Pear Valley Vineyard\, Dark Star Cellars\, Gluntz Family Winery & Cellars\, J. Dusi Wines\, Tobin James Cellars\, Tooth & Nail Winery\, Changala Winery\, San Marcos Creek\, and Firestone Walker Brewing Company.\n\n\n\nShop at our Farm to Fork Market. Vendors include: Pasolivo\, Hartley Farms\, Happy Acres Goat Farm\, PasoJules\, Sew Exceptional\, and more!\n\n\n\nCome ready to learn\, mingle\, and taste great local food and wine in your sun hat!ompan\n\n\n\nClick here for more information about the event.
X-ALT-DESC;FMTTYPE=text/html:<span style="display: none\;">&nbsp\;</span><span style="font-size:14px\;"><span style="font-family:verdana\;">This event is designed to reconnect and educate guests on&nbsp\;the source of their food and wine while showcasing local cuisine\, wine tastings\,&nbsp\;food artisans\, and unique chef demonstrations.<br />\n<br />\nProceeds from this event help&nbsp\;fund the Women In Business Scholarship -- a program that promotes economic&nbsp\;vitality by encouraging individuals entering higher education to strive for&nbsp\;academic excellence and return to our community with valuable leadership skills.</span></span><br />\n&nbsp\;\n<p style="box-sizing: border-box\; margin: 0px 0px 12px\; font-family: Oxygen\, sans-serif\; line-height: 1.6\; font-size: 15px\; color: rgb(63\, 63\, 63)\; letter-spacing: 0.5px\;"><span style="font-size:14px\;"><span style="font-family:verdana\;"><span style="color:#000000\;"><span id="docs-internal-guid-25012834-bf6c-ca03-4900-78673520e612"><span style="background-color: transparent\; vertical-align: baseline\; white-space: pre-wrap\;">Tickets include a drink ticket\, and a commemorative glass and shopping </span></span><span id="docs-internal-guid-25012834-bf6c-ca03-4900-78673520e612"><span style="background-color: transparent\; vertical-align: baseline\; white-space: pre-wrap\;">bag\, and</span></span></span><span style="box-sizing: border-box\;"><span style="color:#000000\;"><span style="box-sizing: border-box\;">&nbsp\;a delicious&nbsp\;4-course\, chef-prepared lunch by: <strong>Pasolivo</strong>\, <strong>PasoTerra</strong>\, <strong>Thomas Hill Organics</strong>\, and <strong>Bless Your Heart Bakery</strong>.</span></span></span></span></span></p>\n<span style="font-size:14px\;"><span style="font-family:verdana\;"> <span style="color:#000000\;">Speakers include:<br />\n<strong>Ali Carscaden\, &nbsp\;Certified Sommelier and Owner of&nbsp\;15 Degrees C Wine Shop &amp\; Bar</strong> --&nbsp\;Ali will give a fun\, informative presentation on&nbsp\;wine and how to taste it!<br />\n<br />\n<strong>Barbara Spencer\, Owner of Windrose Farm</strong> -- Barbara&#39\;s&nbsp\;presentation\, &quot\;Classroom in Sustainability&quot\; will focus on what sustainability means in the Paso Robles area\, why sustainability is important\, and how you can help.<br />\n<br />\n<strong>Tiffani Seitz\, Owner of South Bay Wild</strong> -- Tiffani will give an informative presentation on small commercial fishing vessels\, sustainable seafood\, and the triple bottom line approach.<br />\n<br />\nEnjoy local wine and beer by <a href="http://www.pipestonevineyards.com/" target="_blank">Pipestone Vineyards</a>\, <a href="http://www.mystichillsvineyard.com/" target="_blank">Mystic Hills Vineyard</a>\, <a href="http://www.pearvalley.com/" target="_blank">Pear Valley Vineyard</a>\, <a href="http://www.darkstarcellars.com/" target="_blank">Dark Star Cellars</a>\, <a href="http://www.glunzfamilywinery.com/" target="_blank">Gluntz Family Winery &amp\; Cellars</a>\, <a href="http://www.jdusiwines.com/" target="_blank">J. Dusi Wines</a>\, <a href="https://www.tobinjames.com/" target="_blank">Tobin James Cellars</a>\, <a href="http://www.toothandnailwinery.com/" target="_blank">Tooth &amp\; Nail Winery</a>\, <a href="http://www.changalawinery.com/" target="_blank">Changala Winery</a>\, <a href="http://sanmarcoscreek.com/" target="_blank">San Marcos Creek</a>\,&nbsp\;and <a href="http://www.firestonebeer.com/" target="_blank">Firestone Walker Brewing Company</a>.</span><br />\n<br />\n<span id="docs-internal-guid-25012834-bf9f-6f96-7d9f-e8e2220d9969"><span style="color: rgb(0\, 0\, 0)\; vertical-align: baseline\; white-space: pre-wrap\;">Shop at our Farm to Fork Market. Vendors include: </span></span><span id="docs-internal-guid-25012834-bf9f-f8fd-cc79-523e77870f06"><span style="color: rgb(0\, 0\, 0)\; vertical-align: baseline\; white-space: pre-wrap\;"><a href="http://www.pasolivo.com/" target="_blank"><strong>Pasolivo</strong></a>\, <a href="https://hartley-farms.com/" target="_blank"><strong>Hartley Farms</strong></a>\, <a href="http://www.happyacresfamilyfarm.net/index.html" target="_blank"><strong>Happy Acres Goat Farm</strong></a>\, <a href="http://www.pasojules.com/" target="_blank"><strong>PasoJules</strong></a>\, <a href="https://www.facebook.com/carossewexceptional/" target="_blank">Sew Exceptional</a>\, and more!</span></span><br />\n<br />\n<span style="color:#000000\;"><em><strong>Come ready to learn\, mingle\, and taste great local food and wine in your sun hat!</strong></em></span></span></span><span style="color: rgb(0\, 0\, 0)\; font-family: verdana\; font-size: 14px\;">ompan</span><br />\n<br />\n<span style="font-size:14px\;"><span style="font-family:verdana\;"><strong><a href="http://www.pasorobleschamber.com/farm-to-fork-2016" style="font-family: arial\; font-size: 16px\; line-height: 25.6px\;" target="_blank"><span style="color:#000000\;">Click here</span></a></strong><span style="color:#000000\;"><span style="line-height: 25.6px\;">&nbsp\;for more information about the event.</span></span>&nbsp\;</span></span>
LOCATION:Hartley Farms 6770 Estrella Road San Miguel\, CA
UID:e.2488.4645
SEQUENCE:3
DTSTAMP:20260420T011241Z
URL:https://business.pasorobleschamber.com/events/details/farm-to-fork-10-21-2016-4645
END:VEVENT

END:VCALENDAR
