BEGIN:VCALENDAR
VERSION:2.0
PRODID:-//ChamberMaster//Event Calendar 2.0//EN
METHOD:PUBLISH
X-PUBLISHED-TTL:P3D
REFRESH-INTERVAL:P3D
CALSCALE:GREGORIAN
BEGIN:VEVENT
DTSTART:20180617T190000Z
DTEND:20180617T220000Z
X-MICROSOFT-CDO-ALLDAYEVENT:FALSE
SUMMARY:Father's Day BBQ & Live Music with Dan Curcio
DESCRIPTION:Join us on Father's Day\, Sunday June 17th for live music by local favorite Dan Curcio & a catered Stein's BBQ lunch!\n\nWeather will be gorgeous so seating will be mostly outside. We do have a few outdoor patio umbrellas\, but please dress accordingly and feel free to bring your own seating if you'd like. As a reminder\, we are dog friendly on our patio lawn and they must be leashed at all times. This will be a very busy day at the winery as we will still be open to the public\, so animals who do not fare well in large crowds might be more comfortable staying at home. We are looking forward to celebrating our visionary with you on Father's Day!
X-ALT-DESC;FMTTYPE=text/html:<h2 style="text-align: center\;">Join us on Father&#39\;s Day\, Sunday June 17th for live music by local favorite Dan Curcio &amp\; a catered Stein&#39\;s BBQ lunch!</h2>\n\n<div style="text-align: center\;"><span style="color:rgb(102\, 106\, 115)\; font-family:benton sans\,-apple-system\,blinkmacsystemfont\,roboto\,helvetica neue\,helvetica\,tahoma\,arial\,sans-serif\; font-size:15px">Weather will be gorgeous so seating will be mostly outside. We do have a few outdoor patio umbrellas\, but please dress accordingly and feel free to bring your own seating if you&#39\;d like. As a reminder\, we are dog friendly on our patio lawn and they must be leashed at all times. This will be a very busy day at the winery as we will still be open to the public\, so animals who do not fare well in large crowds might be more comfortable staying at home.&nbsp\;</span><span style="color:rgb(102\, 106\, 115)\; font-family:benton sans\,-apple-system\,blinkmacsystemfont\,roboto\,helvetica neue\,helvetica\,tahoma\,arial\,sans-serif\; font-size:15px">We are looking forward to celebrating our visionary with you on Father&#39\;s Day!</span></div>\n
LOCATION:Calcareous Vineyard 3430 Peachy Canyon Rd Paso Robles\, Ca 93446
UID:e.2488.9202
SEQUENCE:3
DTSTAMP:20260421T175508Z
URL:https://business.pasorobleschamber.com/events/details/father-s-day-bbq-live-music-with-dan-curcio-9202
END:VEVENT

END:VCALENDAR
