BEGIN:VCALENDAR
VERSION:2.0
PRODID:-//ChamberMaster//Event Calendar 2.0//EN
METHOD:PUBLISH
X-PUBLISHED-TTL:P3D
REFRESH-INTERVAL:P3D
CALSCALE:GREGORIAN
BEGIN:VEVENT
DTSTART:20160717T173000Z
DTEND:20160717T190000Z
X-MICROSOFT-CDO-ALLDAYEVENT:FALSE
SUMMARY:Festival Mosaic FREE Master Class with PROJECT Trio
DESCRIPTION:Festival artists are gifted teachers in addition to being gifted performers. Come watch talented young students perform as they are instructed by Festival artists. Fun for musicians and non-musicians alike! PROJECT Trio?s class is for musicians of all instruments\, ages\, and levels and will focus on rhythm\, improvisation\, and general musicianship.
X-ALT-DESC;FMTTYPE=text/html:Festival artists are gifted teachers in addition to being gifted performers. Come watch talented young students perform as they are instructed by Festival artists. Fun for musicians and non-musicians alike! PROJECT Trio?s class is for musicians of all instruments\, ages\, and levels and will focus on rhythm\, improvisation\, and general musicianship.
LOCATION:Avila Beach Community Center 191 San Miguel Road Avila Beach\, CA 93424
UID:e.2488.4702
SEQUENCE:3
DTSTAMP:20260424T131438Z
URL:https://business.pasorobleschamber.com/events/details/festival-mosaic-free-master-class-with-project-trio-07-17-2016-4702
END:VEVENT

END:VCALENDAR
