BEGIN:VCALENDAR
VERSION:2.0
PRODID:-//ChamberMaster//Event Calendar 2.0//EN
METHOD:PUBLISH
X-PUBLISHED-TTL:P3D
REFRESH-INTERVAL:P3D
CALSCALE:GREGORIAN
BEGIN:VEVENT
DTSTART:20160715T170000Z
DTEND:20160715T193000Z
X-MICROSOFT-CDO-ALLDAYEVENT:FALSE
SUMMARY:Festival Mosaic FREE Open Rehearsal
DESCRIPTION:Get a behind-the-scenes glimpse into what it takes to make truly great music. Hear and watch Scott Yoo and the other Festival artists as they prepare for their concerts. Be sure to bring the young musicians in your life! This rehearsal will include music from the Baroque in the Vines orchestra concert by Bach\, Torelli\, and Handel.
X-ALT-DESC;FMTTYPE=text/html:Get a behind-the-scenes glimpse into what it takes to make truly great music. Hear and watch Scott Yoo and the other Festival artists as they prepare for their concerts. Be sure to bring the young musicians in your life! This rehearsal will include music from the Baroque in the Vines orchestra concert by Bach\, Torelli\, and Handel.
LOCATION:Cuesta College Cultural and Performing Arts Center Highway 1 at Hollister Road San Luis Obispo\, CA 93403
UID:e.2488.4698
SEQUENCE:3
DTSTAMP:20260424T133327Z
URL:https://business.pasorobleschamber.com/events/details/festival-mosaic-free-open-rehearsal-07-15-2016-4698
END:VEVENT

END:VCALENDAR
