BEGIN:VCALENDAR
VERSION:2.0
PRODID:-//ChamberMaster//Event Calendar 2.0//EN
METHOD:PUBLISH
X-PUBLISHED-TTL:P3D
REFRESH-INTERVAL:P3D
CALSCALE:GREGORIAN
BEGIN:VEVENT
DTSTART:20160720T223000Z
DTEND:20160721T003000Z
X-MICROSOFT-CDO-ALLDAYEVENT:FALSE
SUMMARY:Festival Mosaic FREE Open Rehearsal
DESCRIPTION:Get a behind-the-scenes glimpse into what it takes to make truly great music. Hear and watch Scott Yoo and the other Festival artists as they prepare for their concerts. Be sure to bring the young musicians in your life! This rehearsal will include music from the Mozart in the Mission orchestra concert by Mozart and Schubert.
X-ALT-DESC;FMTTYPE=text/html:Get a behind-the-scenes glimpse into what it takes to make truly great music. Hear and watch Scott Yoo and the other Festival artists as they prepare for their concerts. Be sure to bring the young musicians in your life! This rehearsal will include music from the Mozart in the Mission orchestra concert by Mozart and Schubert.
LOCATION:Mission San Luis Obispo de Tolosa 751 Palm Street San Luis Obispo\, CA 93401
UID:e.2488.4709
SEQUENCE:3
DTSTAMP:20260424T144548Z
URL:https://business.pasorobleschamber.com/events/details/festival-mosaic-free-open-rehearsal-07-20-2016-4709
END:VEVENT

END:VCALENDAR
