BEGIN:VCALENDAR
VERSION:2.0
PRODID:-//ChamberMaster//Event Calendar 2.0//EN
METHOD:PUBLISH
X-PUBLISHED-TTL:P3D
REFRESH-INTERVAL:P3D
CALSCALE:GREGORIAN
BEGIN:VEVENT
DTSTART:20160721T020000Z
DTEND:20160721T030000Z
X-MICROSOFT-CDO-ALLDAYEVENT:FALSE
SUMMARY:Festival Mosaic FREE Pre-Concert Lecture
DESCRIPTION:Join Cal Poly musicologist Dr. Alyson McLamore as she leads this exciting and instructive lecture\, complete with musical examples\, on the evening concert?s program of Mozart and Schubert.
X-ALT-DESC;FMTTYPE=text/html:Join Cal Poly musicologist Dr. Alyson McLamore as she leads this exciting and instructive lecture\, complete with musical examples\, on the evening concert?s program of Mozart and Schubert.
LOCATION:Mission San Luis Obispo de Tolosa Parish Hall 751 Palm Street San Luis Obispo\, CA 93401
UID:e.2488.4711
SEQUENCE:3
DTSTAMP:20260424T133354Z
URL:https://business.pasorobleschamber.com/events/details/festival-mosaic-free-pre-concert-lecture-07-20-2016-4711
END:VEVENT

END:VCALENDAR
