BEGIN:VCALENDAR
VERSION:2.0
PRODID:-//ChamberMaster//Event Calendar 2.0//EN
METHOD:PUBLISH
X-PUBLISHED-TTL:P3D
REFRESH-INTERVAL:P3D
CALSCALE:GREGORIAN
BEGIN:VEVENT
DTSTART:20170726T023000Z
DTEND:20170726T043000Z
X-MICROSOFT-CDO-ALLDAYEVENT:FALSE
SUMMARY:Festival Mozaic Chamber Series: Beethoven Quartets
DESCRIPTION:String Quartet No. 1 in F major\, op. 18\n\nString Quartet No. 10 in E-flat major\, op. 74 "Harp"\n\nString Quartet No. 14 in C# minor\, op. 131\n\n \n\nBeethoven was the master of the string quartet\, and this program explores works from his early\, middle and late periods. His first quartet bears the classical stamp of Haydn\, with whom Beethoven studied during his 20s. The "Harp" quartet\, nicknamed for the pizzicato figures in the first movement\, is the most symphonic of his quartets. Finally\, his opus 131 quartet departs from the traditional four-movement structure and is written in seven sections that run together without pause\, transforming the string quartet forever.\n\n \n\nSponsored by Warren Jensen and Jean Kidder.
X-ALT-DESC;FMTTYPE=text/html:String Quartet No. 1 in F major\, op. 18<br />\nString Quartet No. 10 in E-flat major\, op. 74 &ldquo\;Harp&rdquo\;<br />\nString Quartet No. 14 in C# minor\, op. 131<br />\n&nbsp\;<br />\nBeethoven was the master of the string quartet\, and this program explores works from his early\, middle and late periods. His first quartet bears the classical stamp of Haydn\, with whom Beethoven studied during his 20s. The &ldquo\;Harp&rdquo\; quartet\, nicknamed for the pizzicato figures in the first movement\, is the most symphonic of his quartets. Finally\, his opus 131 quartet departs from the traditional four-movement structure and is written in seven sections that run together without pause\, transforming the string quartet forever.<br />\n&nbsp\;<br />\n<em>Sponsored by Warren Jensen and Jean Kidder.</em>
LOCATION:United Methodist Church 1515 Fredericks Street San Luis Obispo\, CA 93405
UID:e.2488.6485
SEQUENCE:3
DTSTAMP:20260423T111710Z
URL:https://business.pasorobleschamber.com/events/details/festival-mozaic-chamber-series-beethoven-quartets-6485
END:VEVENT

END:VCALENDAR
